BEGIN:VCALENDAR
VERSION:2.0
PRODID:-//wp-events-plugin.com//7.2.3.1//EN
TZID:Europe/Warsaw
X-WR-TIMEZONE:Europe/Warsaw
BEGIN:VEVENT
UID:6050@night4u.pl
DTSTART;TZID=Europe/Warsaw:20190216T210000
DTEND;TZID=Europe/Warsaw:20190217T070000
DTSTAMP:20190201T053231Z
URL:https://night4u.pl/wydarzenia/3-urodziny-sety-disco-16-02-2019/
SUMMARY:3 urodziny Sety DISCO 16/02/2019
DESCRIPTION:W Sobotę 16 lutego Zapraszamy Was wspólnie do celebrowania na
 szych 3 urodzin\, tej nocy zapewnimy Wam wspaniałą zabawę do samego ran
 a w rytmach lat 80'90'00 i najnowsze przeboje radiowe.\n\n- Dj \n- Nagrody
  \n- Atrakcje \n- Wyjątkowy tort %%% \;) \n\nSeta Disco Bydgoszcz \nul. S
 tary Rynek 18 \nTel. 690 60 96 60
ATTACH;FMTTYPE=image/jpeg:https://night4u.pl/wp-content/uploads/2019/01/18
 127_image_50850140_2275396622718096_4266628440356028416_n.jpg
CATEGORIES:kujawsko-pomorskie
LOCATION:Seta DISCO\, Stary Rynek 18\, Bydgoszcz\, 85-101\, Poland
GEO:53.121757;17.99994
X-APPLE-STRUCTURED-LOCATION;VALUE=URI;X-ADDRESS=Stary Rynek 18\, Bydgoszcz\
 , 85-101\, Poland;X-APPLE-RADIUS=100;X-TITLE=Seta DISCO:geo:53.121757,17.9
 9994
END:VEVENT
BEGIN:VTIMEZONE
TZID:Europe/Warsaw
X-LIC-LOCATION:Europe/Warsaw
BEGIN:STANDARD
DTSTART:20181028T020000
TZOFFSETFROM:+0200
TZOFFSETTO:+0100
TZNAME:CET
END:STANDARD
END:VTIMEZONE
END:VCALENDAR