BEGIN:VCALENDAR
VERSION:2.0
PRODID:-//wp-events-plugin.com//7.2.3.1//EN
TZID:Europe/Warsaw
X-WR-TIMEZONE:Europe/Warsaw
BEGIN:VEVENT
UID:37729@night4u.pl
DTSTART;TZID=Europe/Warsaw:20191130T220000
DTEND;TZID=Europe/Warsaw:20191201T050000
DTSTAMP:20191129T090913Z
URL:https://night4u.pl/wydarzenia/30-11-kokoo-is-in-the-air-meg-soul-vocal
 -live-act/
SUMMARY:30.11 - Kokoo Is In The Air: Meg Soul vocal live act
DESCRIPTION:30.11 - Kokoo Is In The Air\n\nGość specjalny: Meg Soul / War
 szawa | vocal live act\n\nPoziom 0 | C-TITE / TORUŃ | house music\nPoziom
  -1 |  DŹWIĘK / LUBLIN &amp\; GROOVE DEE / SOPOT | party rocking mashup 
 rnb\n\nStart: 22:00\nWejście: darmowe do godziny 23:00\, później 10 PLN
 \nObowiązuje selekcja gości\n\nRezerwacje stolików:\n✆ 690-433-154 / 
 695-346-655\nlub wiadomość na FB:\nhttps://www.facebook.com/KlubKokoo
ATTACH;FMTTYPE=image/jpeg:https://night4u.pl/wp-content/uploads/2019/11/10
 5991_image_76775075_2617834491585133_3661824511671533568_o.jpg
CATEGORIES:łódzkie
LOCATION:Klub Kokoo | Moniuszki 1 | Łódź\, Stanisława Moniuszki 1\, Ł
 ódź\, 90-101\, Poland
GEO:51.76793;19.45741
X-APPLE-STRUCTURED-LOCATION;VALUE=URI;X-ADDRESS=Stanisława Moniuszki 1\, 
 Łódź\, 90-101\, Poland;X-APPLE-RADIUS=100;X-TITLE=Klub Kokoo | Moniuszk
 i 1 | Łódź:geo:51.76793,19.45741
END:VEVENT
BEGIN:VTIMEZONE
TZID:Europe/Warsaw
X-LIC-LOCATION:Europe/Warsaw
BEGIN:STANDARD
DTSTART:20191027T020000
TZOFFSETFROM:+0200
TZOFFSETTO:+0100
TZNAME:CET
END:STANDARD
END:VTIMEZONE
END:VCALENDAR