BEGIN:VCALENDAR
VERSION:2.0
PRODID:-//wp-events-plugin.com//7.2.3.1//EN
TZID:Europe/Warsaw
X-WR-TIMEZONE:Europe/Warsaw
BEGIN:VEVENT
UID:8027@night4u.pl
DTSTART;TZID=Europe/Warsaw:20191207T190000
DTEND;TZID=Europe/Warsaw:20191207T230000
DTSTAMP:20191206T155415Z
URL:https://night4u.pl/wydarzenia/30-lecie-elektryczne-gitary-07-12-2019-k
 rakow-klub-kwadrat/
SUMMARY:30 lecie Elektryczne Gitary | 07.12.2019 Kraków klub Kwadrat
DESCRIPTION:30 lecie ELEKTRYCZNE GITARY\n\nKraków – 07.12.2019 –  Klub
  Kwadrat ul. Skarżyńskiego 1\nOtwarcie wejść: 18:00 Start: 19:00\nBile
 ty przedsprzedaż 60zł\, w dniu koncertu 70zł\n\nBilety do nabycia:\n\nB
 ILETY KOLEKCJONERSKIE:\n\nKlub Kwadrat\, ul. Skarżyńskiego 1\nMetal Shop
 \, ul. Długa 17\nKlub Dziekanat\, ul. Pędzichów 23\nKlub Lochness\, ul 
 Warszawska 15\nPłyty Winylowe\, ul.Dobrego Pasterza 100\nKlub Kombinator 
 os. Szkolne 25\nZET PE TE ul Dolnych Młynów 10\nNowa Księgarnia os Zgod
 y 7\n\nWysyłkowa sprzedaż biletów kolekcjonerskich:\ntel.12 632 21 47 (
 metal.shop.dluga@gmail.com)\n\nBILETY ELEKTRONICZNE:\n\nBilety z systemu T
 icketmaster: https://www.ticketmaster.pl/event/11247 oraz w sieci sklepów
 : EMPIK\, MEDIA MARKT\, SATURN w całej Polsce.\n\nBilety z systemu eBilet
 : https://www.ebilet.pl/muzyka/rock/elektryczne-gitary/ oraz w sieci sklep
 ów: EMPIK\, MEDIA MARKT\, SATURN w całej Polsce.\n\nBilety Empik: https:
 //empikbilety.pl/wydarzenie/kobranocka-roze-europy-sztywny-pal-azji-4/grud
 zien-2019\n\nBilety z systemu Going: https://goingapp.pl/evt/2089413/30-le
 cie-elektryczne-gitary
ATTACH;FMTTYPE=image/jpeg:https://night4u.pl/wp-content/uploads/2019/02/22
 504_image_51795601_2455648734507002_7619454656653033472_o.jpg
CATEGORIES:małopolskie
LOCATION:Hala Forum\, Marii Konopnickiej 28\, Kraków\, 30-302\, Poland
GEO:50.04504;19.93639
X-APPLE-STRUCTURED-LOCATION;VALUE=URI;X-ADDRESS=Marii Konopnickiej 28\, Kra
 ków\, 30-302\, Poland;X-APPLE-RADIUS=100;X-TITLE=Hala Forum:geo:50.04504,
 19.93639
END:VEVENT
BEGIN:VTIMEZONE
TZID:Europe/Warsaw
X-LIC-LOCATION:Europe/Warsaw
BEGIN:STANDARD
DTSTART:20191027T020000
TZOFFSETFROM:+0200
TZOFFSETTO:+0100
TZNAME:CET
END:STANDARD
END:VTIMEZONE
END:VCALENDAR