BEGIN:VCALENDAR
VERSION:2.0
PRODID:-//wp-events-plugin.com//7.2.3.1//EN
TZID:Europe/Warsaw
X-WR-TIMEZONE:Europe/Warsaw
BEGIN:VEVENT
UID:45530@night4u.pl
DTSTART;TZID=Europe/Warsaw:20200131T200000
DTEND;TZID=Europe/Warsaw:20200201T030000
DTSTAMP:20200131T224013Z
URL:https://night4u.pl/wydarzenia/31-01-%e2%98%85-pt-%e2%98%85-disco-dance
 -%e2%98%85-dj-fresh/
SUMMARY:31.01 ★ pt ★ Disco Dance ★ DJ Fresh
DESCRIPTION:Tematyczny piątek jakich mało 🔥 \nCzyli najlepsza muzyka t
 aneczna 📻 😎\nNa parkiecie będą rządzić: 🔈🔈🔈\n🔈 disco
 \n🔈 dance\n🔈 latino\n🔈 odświeżone brzmienia\nWyselekcjonowane b
 rzmienia wprost od DJ Fresha\n\nStart: 20:00 \n___________________________
 _______________________\n➡️ DRESS CODE\nŁadnie\, schludnie\, ale nie 
 sportowo\n\nWstęp / +18 SELEKCJA\nVIP CARD - wejście bezpłatne\n_______
 ___________________________________________\n➡️ RESERVATIONS &amp\; SO
 CIAL MEDIA\n84 639 26 26 - info i rezerwacje\nInstagram: https://www.insta
 gram.com/broadway_club_zamosc/\nFacebook: https://www.facebook.com/Broadwa
 yZamosc/\nYouTube: https://www.youtube.com/channel/UCWxbnJltCxH7XCAK7pugML
 A\n__________________________________________________\n➡️ CONTACT\nBro
 adway Club Zamość | Peowiaków 94\nbroadway-club.pl\n\nImprezy/catering/
 zamówienia/restauracja i ogólne zapytania:\nbroadway.klub@gmail.com
ATTACH;FMTTYPE=image/jpeg:https://night4u.pl/wp-content/uploads/2020/01/14
 7760_image_83065901_3959988057360152_6255345654436986880_o.jpg
CATEGORIES:lubelskie
LOCATION:Broadway Club & Restaurant\, ul. Peowiaków 94\, Zamosc\, 22-400\,
  Poland
GEO:50.715726;23.261037
X-APPLE-STRUCTURED-LOCATION;VALUE=URI;X-ADDRESS=ul. Peowiaków 94\, Zamosc\
 , 22-400\, Poland;X-APPLE-RADIUS=100;X-TITLE=Broadway Club & Restaurant:ge
 o:50.715726,23.261037
END:VEVENT
BEGIN:VTIMEZONE
TZID:Europe/Warsaw
X-LIC-LOCATION:Europe/Warsaw
BEGIN:STANDARD
DTSTART:20191027T020000
TZOFFSETFROM:+0200
TZOFFSETTO:+0100
TZNAME:CET
END:STANDARD
END:VTIMEZONE
END:VCALENDAR