BEGIN:VCALENDAR
VERSION:2.0
PRODID:-//wp-events-plugin.com//7.2.3.1//EN
TZID:Europe/Warsaw
X-WR-TIMEZONE:Europe/Warsaw
BEGIN:VEVENT
UID:45562@night4u.pl
DTSTART;TZID=Europe/Warsaw:20200131T210000
DTEND;TZID=Europe/Warsaw:20200201T040000
DTSTAMP:20200131T224309Z
URL:https://night4u.pl/wydarzenia/31-01-meyou-lista-fb-wstep-free-do-2300/
SUMMARY:31/01 Me&amp\;You / Lista Fb Wstęp Free do 23:00
DESCRIPTION:W najbliższy piątek parkietem w Ground Club  zawładnie jegom
 ość\, który o dobrej zabawie wie wszystko !  😃\nTego wieczoru wyrusz
 ycie w muzyczną podróż razem z Dj Tweekiem i jak obiecał - wrócicie n
 ad ranem! 😈\nO wasze podniebienia i spotkanie z dobrym smakiem zadbają
  Nasi barmani ! 😍\nNie dajcie się namawiać ! 😉\nJedyny słuszny ad
 res ? - Łuczkowskiego11 ! ♥\n\nStart:21:00🕤\nLista Facebook wejście
  free do 23:00!\nMusic:Dj Tweek 🎧 \nDress Code / Door Selection👔\nRe
 zerwacja: 668-152-208
ATTACH;FMTTYPE=image/jpeg:https://night4u.pl/wp-content/uploads/2020/01/14
 7926_image_84183490_2698794883519548_656208687148302336_o.jpg
CATEGORIES:lubelskie
LOCATION:Ground Club\, Pl Łuczkowskiego 11\, Chełm\, 22-100\, Poland
GEO:51.13286;23.47388
X-APPLE-STRUCTURED-LOCATION;VALUE=URI;X-ADDRESS=Pl Łuczkowskiego 11\, Che
 łm\, 22-100\, Poland;X-APPLE-RADIUS=100;X-TITLE=Ground Club:geo:51.13286,
 23.47388
END:VEVENT
BEGIN:VTIMEZONE
TZID:Europe/Warsaw
X-LIC-LOCATION:Europe/Warsaw
BEGIN:STANDARD
DTSTART:20191027T020000
TZOFFSETFROM:+0200
TZOFFSETTO:+0100
TZNAME:CET
END:STANDARD
END:VTIMEZONE
END:VCALENDAR