BEGIN:VCALENDAR
VERSION:2.0
PRODID:-//wp-events-plugin.com//7.2.3.1//EN
TZID:Europe/Warsaw
X-WR-TIMEZONE:Europe/Warsaw
BEGIN:VEVENT
UID:30413@night4u.pl
DTSTART;TZID=Europe/Warsaw:20191031T210000
DTEND;TZID=Europe/Warsaw:20191101T050000
DTSTAMP:20191030T100429Z
URL:https://night4u.pl/wydarzenia/31-10-straaasznie-udana-impreza-2/
SUMMARY:31.10 - StrAAAsznie udana impreza!
DESCRIPTION:31.10 - STRAAASZNIE UDANA IMPREZA\n\nZapraszamy w czwartek na u
 piornie udaną imprezę do Bajki. Czekać na Was będzie mrocznie udekorow
 any klub\, krwiste drinki oraz obsługa jak z najstraszniejszego horroru. 
 Namówiliśmy? :)\n\nImprezę nakręci nasz zawodowiec: DJ FISHER\n\nWstę
 p: 10 zł od 21:00\, selekcja + 18\n\nLajkujcie nas i odwiedzajcie na:\nww
 w.bajkadiscoclub.pl\nwww.facebook.com/bajkadiscoclubtorun\n\nBAJKA DISCO C
 LUB\nToruń\, Ul. Szeroka 19.
ATTACH;FMTTYPE=image/jpeg:https://night4u.pl/wp-content/uploads/2019/10/70
 075_image_71655992_1157938237725387_1699154122462199808_o.jpg
CATEGORIES:kujawsko-pomorskie
LOCATION:BAJKA DISCO CLUB Toruń\, Szeroka 19\, Torun\, 87-100\, Poland
GEO:53.01047;18.60732
X-APPLE-STRUCTURED-LOCATION;VALUE=URI;X-ADDRESS=Szeroka 19\, Torun\, 87-100
 \, Poland;X-APPLE-RADIUS=100;X-TITLE=BAJKA DISCO CLUB Toruń:geo:53.01047,
 18.60732
END:VEVENT
BEGIN:VTIMEZONE
TZID:Europe/Warsaw
X-LIC-LOCATION:Europe/Warsaw
BEGIN:STANDARD
DTSTART:20191027T020000
TZOFFSETFROM:+0200
TZOFFSETTO:+0100
TZNAME:CET
END:STANDARD
END:VTIMEZONE
END:VCALENDAR