BEGIN:VCALENDAR
VERSION:2.0
PRODID:-//wp-events-plugin.com//7.2.3.1//EN
TZID:Europe/Warsaw
X-WR-TIMEZONE:Europe/Warsaw
BEGIN:VEVENT
UID:33294@night4u.pl
DTSTART;TZID=Europe/Warsaw:20191031T213000
DTEND;TZID=Europe/Warsaw:20191101T040000
DTSTAMP:20191031T054343Z
URL:https://night4u.pl/wydarzenia/31-10-tkacka-music-club-halloween-bacard
 i-warson/
SUMMARY:31/10 / Tkacka Music Club / Halloween / Bacardi / Warson
DESCRIPTION:******* ENGLISH DESCRIPTION BELOW *******\n\nW najstraszniejsz
 ą noc w roku - Tkacką podbija Bacardi!\nSpodziewajcie się mocy wrażeń
 \, które zapewni Bacardi wraz z Warsonem.\n\n\n\nRezerwacje:\n +48 726 88
 8 333 / kontakt@tkackaclub.pl / fb msg / whatsup\n\nObowiązuje selekcja.\
 nLista FB - Free do 23 (z wejściem na resztę nocy)\nStroje free do 23:30
 \nWstęp do klubu - 10 / 20 / 30 PLN\nRezerwacje bezpłatnie do godziny 23
 :30\n\n________________________\nTKACKA MUSIC CLUB\nul. Tkacka 9\, 80-836\
 , Gdańsk\nwww.tkackaclub.pl #tkackaclub #tkackamusicclub #tkacka\n\n\nWe 
 play your favorite songs\, which you do not know yet from URBAN music - ho
 use\, hip-hop\, remixes of the best songs played in clubs all around the w
 orld.\n\nThe Tkacka Music Club is the highest clubbing quality in the Gda
 ńsk Old Town.\n\n\nReservations:\n  +48 726 888 333 / kontakt@tkackaclub.
 pl / fb msg / whatsup\n\n\n\n\n\n\nSelection\nFB LIST - Free do 23 (z wej
 ściem na resztę nocy)\nFee - 10 / 20 / 30 PLN\nReservation free till 24:
 00\n\n________________________\nTKACKA MUSIC CLUB\nul. Tkacka 9\, 80-836\,
  Gdańsk\nwww.tkackaclub.pl #tkackaclub #tkackamusicclub #tkacka
ATTACH;FMTTYPE=image/jpeg:https://night4u.pl/wp-content/uploads/2019/10/82
 454_image_72683476_477743286178615_3573158098711347200_o.jpg
CATEGORIES:pomorskie
LOCATION:Tkacka Music Club Gdańsk\, ul. Tkacka 9\, Gdansk\, 80-836\, Polan
 d
GEO:54.350041;18.64889
X-APPLE-STRUCTURED-LOCATION;VALUE=URI;X-ADDRESS=ul. Tkacka 9\, Gdansk\, 80-
 836\, Poland;X-APPLE-RADIUS=100;X-TITLE=Tkacka Music Club Gdańsk:geo:54.3
 50041,18.64889
END:VEVENT
BEGIN:VTIMEZONE
TZID:Europe/Warsaw
X-LIC-LOCATION:Europe/Warsaw
BEGIN:STANDARD
DTSTART:20191027T020000
TZOFFSETFROM:+0200
TZOFFSETTO:+0100
TZNAME:CET
END:STANDARD
END:VTIMEZONE
END:VCALENDAR