BEGIN:VCALENDAR
VERSION:2.0
PRODID:-//wp-events-plugin.com//7.2.3.1//EN
TZID:Europe/Warsaw
X-WR-TIMEZONE:Europe/Warsaw
BEGIN:VEVENT
UID:470@night4u.pl
DTSTART;TZID=Europe/Warsaw:20181231T200000
DTEND;TZID=Europe/Warsaw:20190101T060000
DTSTAMP:20181217T153157Z
URL:https://night4u.pl/wydarzenia/31-12-sylwester-2018-2019-jak-z-bajki/
SUMMARY:31.12 - Sylwester 2018 / 2019 Jak z Bajki
DESCRIPTION:Bajka Disco Club to rozpoznawalna marka klubowa w całym kraju.
  Obecnie są to 3 gorące punkty w Łodzi\, Rzeszowie oraz Toruniu. Kluby 
 te charakteryzuje ujednolicona scenografia oraz spójność muzyczna. Serc
 em każdego lokalu jest oczywiście sterowna podłoga wraz ze ścianą. Im
 prezowe piątki oraz soboty to koncerty największych gwiazd sceny disco p
 olo & dance oraz wysokiej klasy imprezy tematyczne.\n\nWitajcie w naszej B
 ajce!\n\n-----------------------------------------------------------------
 -------\n\nSYLWESTER 2018 / 2019 JAK Z BAJKI\n\nSzczegółowa informacja d
 la wszystkich zainteresowanych.\n\n---------------------------------------
 ---------------------------------\n\nGwarancja udanej DISCO sylwestrowej n
 ocy 201 / 2019 to oczywiście BAJKA DISCO CLUB Łódź. Od ponad 3 lat go
 ścimy klubowiczów z całej Polski pod niezmiennym adresem Piotrkowska 90
 . Serwujemy niepowtarzalny klimat w rytmie DISCO oraz gwarancję udanej za
 bawy. Rezerwujcie już dziś. Ilość miejsc ograniczona.\n\n-------------
 -----------------------------------------------------------\n\nPOZIOM 0\nP
 AKIET BAJKA NOWY ROK (300 OSÓB). Miejsca stojące.\n\nWstęp: \nI pula - 
 35zł\nII pula - 40zł (do 30.12.2016r.)\nIII pula - 45zł (w dniu imprezy
  sylwestrowej)\nw tym lampka szampana o północy.\n\n--------------------
 ----------------------------------------------------\n\nPOZIOM 1\nPAKIET B
 AJKA PREMIUM (120 OSÓB)\n\nWstęp i miejsce siedzące dla max 6 osób. \n
 Butelka Stock Prestige Vodka 0.7l + 1l sok/napój + przekąski\nCena: 400 
 PLN\n\nWstęp i miejsce siedzące dla max 6 osób. \nButelka Jim Beam 0.7l
  + 1l napój + przekąski\nCena: 450 PLN\n\n------------------------------
 ------------------------------------------\n\nPOZIOM 1\nPAKIET DARKROOM (1
 5 OSÓB)\n\nWstęp i miejsca dla max 15 osób.\n1000zł do wykorzystania w
  barze + przekąski.\nCena: 1500zł\n\n-----------------------------------
 -------------------------------------\n\nWszelkich informacji oraz rezerwa
 cji udziela nasz manager pod numerem telefonu: 530 530 581.\n\n-----------
 -------------------------------------------------------------\n\nNagrodzim
 y najciekawsze kreacje!\n\nMuzyka: disco polo\, szalone lata 80' 90'\, esk
 a\, latino\n\nStart: 20:00\, selekcja\n\nZabawa z DJ'em do białego rana!\
 n\nDo zobaczenia w naszej BAJCE :D\n\nLajkujcie nas i odwiedzajcie na:\nww
 w.bajkadiscoclub.pl\nwww.facebook.com/bajkadiscoclub\n\nBAJKA DISCO CLUB\n
 Łódź\, Ul. Piotrkowska 90.
ATTACH;FMTTYPE=image/jpeg:https://night4u.pl/wp-content/uploads/2018/12/46
 26_image_46425148_1057795644398355_1252146433239285760_o.jpg
CATEGORIES:łódzkie
LOCATION:BAJKA DISCO CLUB Łódź\, Piotrkowska 90\, Łódź\, 90-103\, Pol
 and
GEO:51.76649;19.45728
X-APPLE-STRUCTURED-LOCATION;VALUE=URI;X-ADDRESS=Piotrkowska 90\, Łódź\, 
 90-103\, Poland;X-APPLE-RADIUS=100;X-TITLE=BAJKA DISCO CLUB Łódź:geo:51
 .76649,19.45728
END:VEVENT
BEGIN:VTIMEZONE
TZID:Europe/Warsaw
X-LIC-LOCATION:Europe/Warsaw
BEGIN:STANDARD
DTSTART:20181028T020000
TZOFFSETFROM:+0200
TZOFFSETTO:+0100
TZNAME:CET
END:STANDARD
END:VTIMEZONE
END:VCALENDAR