BEGIN:VCALENDAR
VERSION:2.0
PRODID:-//wp-events-plugin.com//7.2.3.1//EN
TZID:Europe/Warsaw
X-WR-TIMEZONE:Europe/Warsaw
BEGIN:VEVENT
UID:2564@night4u.pl
DTSTART;TZID=Europe/Warsaw:20190119T220000
DTEND;TZID=Europe/Warsaw:20190120T040000
DTSTAMP:20190104T231939Z
URL:https://night4u.pl/wydarzenia/360-degrees-rooftop-if-you-know-what-i-m
 ean/
SUMMARY:360 Degrees / Rooftop / If You Know What I Mean
DESCRIPTION:Świat się kręci\, a w nim my!\n\nJak nikt inny możemy pochw
 alić się i zaprezentować widok Warszawy 360'\, 122 metry nad ziemią.\n
 Jak nikt inny dbamy o jakość doświadczenia i komfort naszych gości.\nJ
 ak nikt inny stawiamy na najlepszych artystów i topowe\, klubowe dźwięk
 i. Tym razem zaprezentują je DJ  neeVald i Mibro\n\nTej nocy odbędzie si
 ę premiera klubowa teledysku BLACK CANDY\, debiutującej muzycznie Królo
 wej Polskiej Burleski\, Pin Up Candy\, który wydała pod zmienionym pseud
 onimem. Wideoklip do singla „You know What I Mean” będzie połączeni
 em inspiracji burleskowych oraz fetyszowych fascynacji wokalistki. Jest to
  niezwykła mieszanka wizualno-muzyczna\, niespotykana do tej pory na pols
 kim rynku. Pierwszy singiel „You Know What I Mean” to połączenie pop
 u i EDM inspirowany dużymi projektami zza oceanu\, podany w niezwykle zmy
 słowym wydaniu. Świeże\, elektroniczne brzmienie podkreśla wyjątkowy 
 charakter BLACK CANDY\n\nSOBOTA 19.01.2019\n_____________________\nZagraj
 ą: \nMibro\nneeVald\n\n*start: 22:00 / obowiązuje selekcja\n*rezerwacje:
  reservation@theview.pl / +48 663 971 942\n*wstęp: \n- standard 30 PLN\n-
  lista facebook: FREE do 23:00 (kliknij "wezmę udział")\n- między 3:00 
 a 4:00 wstęp FREE\n- wejście na imprezę możliwe do godziny 4:00\n_____
 _________________\n\nTHE VIEW - LIKE NO OTHER.
ATTACH;FMTTYPE=image/jpeg:https://night4u.pl/wp-content/uploads/2019/01/92
 37_image_49404288_1956917407689657_4525860971146641408_o.jpg
CATEGORIES:mazowieckie
LOCATION:The View Warsaw\, Twarda 18\, Warsaw\, 00-105\, Poland
GEO:52.23443;20.99936
X-APPLE-STRUCTURED-LOCATION;VALUE=URI;X-ADDRESS=Twarda 18\, Warsaw\, 00-105
 \, Poland;X-APPLE-RADIUS=100;X-TITLE=The View Warsaw:geo:52.23443,20.99936
END:VEVENT
BEGIN:VTIMEZONE
TZID:Europe/Warsaw
X-LIC-LOCATION:Europe/Warsaw
BEGIN:STANDARD
DTSTART:20181028T020000
TZOFFSETFROM:+0200
TZOFFSETTO:+0100
TZNAME:CET
END:STANDARD
END:VTIMEZONE
END:VCALENDAR