BEGIN:VCALENDAR
VERSION:2.0
PRODID:-//wp-events-plugin.com//7.2.3.1//EN
TZID:Europe/Warsaw
X-WR-TIMEZONE:Europe/Warsaw
BEGIN:VEVENT
UID:16146@night4u.pl
DTSTART;TZID=Europe/Warsaw:20190517T210000
DTEND;TZID=Europe/Warsaw:20190520T040000
DTSTAMP:20190514T213736Z
URL:https://night4u.pl/wydarzenia/3_urodziny_gastropiatek-sobota/
SUMMARY:3_Urodziny_GASTRO!PIATEK-SOBOTA
DESCRIPTION:W ten weekend obchodzimy wielkie święto naszego bistro GSTROF
 AZY. Z tego powodu chcemy zrobić wielkie imprezoewanie na tarasie razem z
  grillem oby tylko pogoda nam dopisala. Przybywajcie bedzie wiele atrakcji
  i wsponien. \n\nBO PRZECIEŻ KAŻDA IMPREZA W MIEŚCIE KOŃCZY SIĘ W GAS
 TROOOO !!!!!\n___________________________\nDJ OZI\nRAY\nSANT\n____________
 _____________\nSTART 21:00\nWejscie free
ATTACH;FMTTYPE=image/jpeg:https://night4u.pl/wp-content/uploads/2019/05/39
 571_image_60290487_2319156974802308_1951274994864488448_o.jpg
CATEGORIES:lubelskie
LOCATION:Klub Gramofon\, Biała Podlaska\, Poland
GEO:52.03268;23.120489
X-APPLE-STRUCTURED-LOCATION;VALUE=URI;X-ADDRESS=Biała Podlaska\, Poland;X-
 APPLE-RADIUS=100;X-TITLE=Klub Gramofon:geo:52.03268,23.120489
END:VEVENT
BEGIN:VTIMEZONE
TZID:Europe/Warsaw
X-LIC-LOCATION:Europe/Warsaw
BEGIN:DAYLIGHT
DTSTART:20190331T030000
TZOFFSETFROM:+0100
TZOFFSETTO:+0200
TZNAME:CEST
END:DAYLIGHT
END:VTIMEZONE
END:VCALENDAR