BEGIN:VCALENDAR
VERSION:2.0
PRODID:-//wp-events-plugin.com//7.2.3.1//EN
TZID:Europe/Warsaw
X-WR-TIMEZONE:Europe/Warsaw
BEGIN:VEVENT
UID:6648@night4u.pl
DTSTART;TZID=Europe/Warsaw:20190209T220000
DTEND;TZID=Europe/Warsaw:20190210T060000
DTSTAMP:20190207T103434Z
URL:https://night4u.pl/wydarzenia/3some-nowy-cykl-w-sq-klub/
SUMMARY:3some! | Nowy cykl w SQ klub!
DESCRIPTION:Trzech Muszkieterów\, Trzech Tenorów\, Trzech Króli? Jeszcze
  lepiej! Trzech DJ-ów\, którzy trzęsą polskimi parkietami od lat! neeV
 ald\, Bartes i Matthew Clarck to uznane marki muzyki klubowej. Każdego z 
 nich poznaliście już podczas cieszących się dużym powodzeniem autorsk
 ich imprez w SQ. Tym razem łączą siły we wspólnym projekcie -3SOME-\,
  gwarantując tym samym potrójne imprezowe doznania. \n\nJeden cykl\, trz
 y muzyczne temperamenty i ich wizja house’owych podróży\, wyjątkowa k
 olaboracja. Zapraszamy 9.02 na pierwszą odsłonę\, która pozwoli Wam ro
 zkoszować się każdym z tych stylów z osobna oraz zasmakować ich w jed
 nym połączeniu. \n\n3some! Wanna some?\n\n\n09.02 (sobota) 3SOME! Openin
 g party!\n\nneeVald\n\nBartes\n\nMatthew Clarck\n\nstart: 22:00\n\nbilety:
  20 zł do 23:00 / 25 zł po 23:00 / dziewczyny do 23:00 wstęp FREE!\n\n\
 nCOŚ DLA UCHA! \n\n☛ https://soundcloud.com/neevald\n\n☛ https://soun
 dcloud.com/djbartes\n\n☛ https://soundcloud.com/matthewclarck
ATTACH;FMTTYPE=image/jpeg:https://night4u.pl/wp-content/uploads/2019/02/19
 513_image_51182358_10157132823092940_5466385760166871040_o.jpg
CATEGORIES:wielkopolskie
LOCATION:SQ klub\, Poznan\, Poland
GEO:52.40174;16.926687
X-APPLE-STRUCTURED-LOCATION;VALUE=URI;X-ADDRESS=Poznan\, Poland;X-APPLE-RAD
 IUS=100;X-TITLE=SQ klub:geo:52.40174,16.926687
END:VEVENT
BEGIN:VTIMEZONE
TZID:Europe/Warsaw
X-LIC-LOCATION:Europe/Warsaw
BEGIN:STANDARD
DTSTART:20181028T020000
TZOFFSETFROM:+0200
TZOFFSETTO:+0100
TZNAME:CET
END:STANDARD
END:VTIMEZONE
END:VCALENDAR