BEGIN:VCALENDAR
VERSION:2.0
PRODID:-//wp-events-plugin.com//7.2.3.1//EN
TZID:Europe/Warsaw
X-WR-TIMEZONE:Europe/Warsaw
BEGIN:VEVENT
UID:11288@night4u.pl
DTSTART;TZID=Europe/Warsaw:20190520T230000
DTEND;TZID=Europe/Warsaw:20190522T050000
DTSTAMP:20190403T161521Z
URL:https://night4u.pl/wydarzenia/4-4-monday-on-luzztro-2/
SUMMARY:4/4 Monday on Luzztro
DESCRIPTION:Jak wszyscy wiemy poniedziałków nie lubi nikt. W związku z t
 ym ekipy Cztery Czwarte\, Źródło\, Selektronika postanawiają wyjść n
 aprzeciw poniedziałkowej rutynie i zaserwować wam dawkę wyselekcjonowan
 ego techno. Pokażą\, że poniedziałek też może być pełen energii i 
 świetnego humoru. Miejscem które łączy się z nami w tym poniedziałko
 wym buncie jest kultowe warszawskie Luzztro. \n\nZagrają:\nInfo niebawem\
 n\nBramka: 20zł\nAle! \nMamy dla was opcje nabycia biletu za 10zł!\nBile
 ty do nabycia u:\n- Szymon Majewski\n- Kacper Szumiglowski\n- Michał Łuc
 zniewski\nIlość biletów w cenie 10zł jest ograniczona.
ATTACH;FMTTYPE=image/jpeg:https://night4u.pl/wp-content/uploads/2019/04/29
 317_image_55853703_2650969908308972_7496628856959270912_o.jpg
CATEGORIES:mazowieckie
LOCATION:Luzztro\, Aleje Jerozolimskie 6\, Warsaw\, 00-374\, Poland
GEO:52.232779;21.023655
X-APPLE-STRUCTURED-LOCATION;VALUE=URI;X-ADDRESS=Aleje Jerozolimskie 6\, War
 saw\, 00-374\, Poland;X-APPLE-RADIUS=100;X-TITLE=Luzztro:geo:52.232779,21.
 023655
END:VEVENT
BEGIN:VTIMEZONE
TZID:Europe/Warsaw
X-LIC-LOCATION:Europe/Warsaw
BEGIN:DAYLIGHT
DTSTART:20190331T030000
TZOFFSETFROM:+0100
TZOFFSETTO:+0200
TZNAME:CEST
END:DAYLIGHT
END:VTIMEZONE
END:VCALENDAR