BEGIN:VCALENDAR
VERSION:2.0
PRODID:-//wp-events-plugin.com//7.2.3.1//EN
TZID:Europe/Warsaw
X-WR-TIMEZONE:Europe/Warsaw
BEGIN:VEVENT
UID:51213@night4u.pl
DTSTART;TZID=Europe/Warsaw:20210827T180000
DTEND;TZID=Europe/Warsaw:20210829T050000
DTSTAMP:20210827T133413Z
URL:https://night4u.pl/wydarzenia/4-levels-of-fun-bracka-4/
SUMMARY:4 levels of fun Bracka 4
DESCRIPTION:LATO NA BRACKIEJ 4 TRWA!\nMuzyka i pozytywna energia w każdy c
 zwartek od 18tej – przy Brackiej 4!🤩\nCztery poziomy – jedna imprez
 a!🎉\n\nDisco Pub z muzyką taneczną i Disco Polo\nN'Joy cocktail bar &
 pizza\,summer garden\nPiętro – Music Club\, best party all night long\n
 Drugie – Exclusive cocktail bar and bilard\n\nCzwartek Lato na Brackiej 
 // Dj Alkovich\n\nPiątek   Brazilian Party Sambaxé Dance-Company // Dj A
 lkovich \n\nSobota Tropical Night/ Dj Alain NCA \n\nRezerwacja miejsc:\n
 📧marketingbracka4@gmail.com\,\n☎️ 517 593 181
ATTACH;FMTTYPE=image/jpeg:https://night4u.pl/wp-content/uploads/2021/08/18
 6660_image_240316015_3839161052850996_8042073268025027140_n.jpg
CATEGORIES:małopolskie
END:VEVENT
BEGIN:VTIMEZONE
TZID:Europe/Warsaw
X-LIC-LOCATION:Europe/Warsaw
BEGIN:DAYLIGHT
DTSTART:20210328T030000
TZOFFSETFROM:+0100
TZOFFSETTO:+0200
TZNAME:CEST
END:DAYLIGHT
END:VTIMEZONE
END:VCALENDAR