BEGIN:VCALENDAR
VERSION:2.0
PRODID:-//wp-events-plugin.com//7.2.3.1//EN
TZID:Europe/Warsaw
X-WR-TIMEZONE:Europe/Warsaw
BEGIN:VEVENT
UID:31269@night4u.pl
DTSTART;TZID=Europe/Warsaw:20191011T210000
DTEND;TZID=Europe/Warsaw:20191012T050000
DTSTAMP:20191009T200713Z
URL:https://night4u.pl/wydarzenia/4-uodziny-banana-kolo-fortuny-1110/
SUMMARY:4 Uodziny Banana // Koło fortuny 11|10
DESCRIPTION:Drugi dzień urodzinowego maratonu Banana Dance Club!\n\nCo w p
 iątek na Was czeka poza wyjątkowym wystrojem klubu?\n- koło fortuny\n- 
 Kamikadze w 7 smakach za 10 zł\n- barowa loteria\n- najlepsze\, taneczne 
 hity disco\n\nŚwiętuj 4 urodziny klubu Banana razem z nami!\n___________
 __________________________________________\nStart: 21:00\nBilet: 15 zł\nW
 stęp: +18\n\nSzewska 3a\, Wrocław
ATTACH;FMTTYPE=image/jpeg:https://night4u.pl/wp-content/uploads/2019/10/72
 684_image_72091919_2686142338279025_7961008829901045760_n.jpg
CATEGORIES:dolnośląskie
LOCATION:Banana Dance Club\, Szewska 3a\, Wroclaw\, 50-053\, Poland
GEO:51.1078;17.03398
X-APPLE-STRUCTURED-LOCATION;VALUE=URI;X-ADDRESS=Szewska 3a\, Wroclaw\, 50-0
 53\, Poland;X-APPLE-RADIUS=100;X-TITLE=Banana Dance Club:geo:51.1078,17.03
 398
END:VEVENT
BEGIN:VTIMEZONE
TZID:Europe/Warsaw
X-LIC-LOCATION:Europe/Warsaw
BEGIN:DAYLIGHT
DTSTART:20190331T030000
TZOFFSETFROM:+0100
TZOFFSETTO:+0200
TZNAME:CEST
END:DAYLIGHT
END:VTIMEZONE
END:VCALENDAR