BEGIN:VCALENDAR
VERSION:2.0
PRODID:-//wp-events-plugin.com//7.2.3.1//EN
TZID:Europe/Warsaw
X-WR-TIMEZONE:Europe/Warsaw
BEGIN:VEVENT
UID:38921@night4u.pl
DTSTART;TZID=Europe/Warsaw:20191212T210000
DTEND;TZID=Europe/Warsaw:20191215T030000
DTSTAMP:20191215T000925Z
URL:https://night4u.pl/wydarzenia/44-urodziny-antalka-imprezujemy-3-dni/
SUMMARY:44 Urodziny Antałka!! Imprezujemy 3 Dni!
DESCRIPTION:🎂 44 URODZINY ANTAŁKA 🎂\n\n❗ IMPREZUJEMY 3 DNI ❗\n\n
 Jest nam niezmiernie miło oznajmić\, że Klub Antałek ma już 44⃣ lat
 a 🎂\n\nW związku z tym\, serdecznie zapraszamy wszystkich na 3-dniowe 
 urodzinowe szaleństwo 🎉\n\nCodziennie coś innego\, także każdy znaj
 dzie coś dla siebie 😀\n\nRozkład jazdy wygląda następująco:\n\n➡
  Czwartek - Single Party by Spotted UWM\n\nNa wejściu wybierz swoją opas
 kę i zdecyduj jak będzie wyglądał Twój wieczór 😇 😈\n\nNiebiesk
 a - chcę kogoś poznać. 👫\nCzerwona - jak szaleć\, to szaleć! 😈\
 nZielona - jestem tu\, żeby potańczyć i coś wypić 💃 🍺\n\nOj\, b
 ędzie się działo 😍\n\n➡ Piątek - Biesiada urodzinowa z tortem\n\n
 Wpadnij na urodzinową lampkę szampana 🥂 oraz specjalny urodzinowy tor
 t 🎂\n\nPS Kartki z życzeniami będą mile widziane 😍\n\n➡ Sobota 
 - DJ Meeting \n\nSpecjalnie\, z najlepszymi życzeniami dla Antałka\, zag
 rają u nas:\n🎧 Rezydenci klubu\,\n🎧🎧. oraz zaproszeni goście 
 🤗\n\nPrzyjdź i świętuj razem z nami 🤗\n\n💥 ALE TO NIE KONIEC A
 TRAKCJI 💥\n\nPodczas urodzin zastaniecie:\n\n💣 Litry darmowego alkoh
 olu\n\n💣Specjalne promocje na barze\n\n💣 Relację foto\n\n💣 Konku
 rsy z nagrodami\n\nBrzmi ciekawie? 🤔\nDo zobaczyska w klubie❗\n\n----
 -----------------------------------------------------------------\n\n💥 
 Termin: 12\,13\,14 Grudnia (Czwartek\, Piątek\, Sobota)\n🕘 Start: 21.0
 0 - Koniec: 2.45\n⭐ Studenci 5 PLN / Pozostali - 10 PLN
ATTACH;FMTTYPE=image/jpeg:https://night4u.pl/wp-content/uploads/2019/12/11
 2184_image_79384690_10159168540889447_7266462504459436032_o.jpg
CATEGORIES:warmińsko-mazurskie
LOCATION:Club Antałek\, ul\,Oczapowskiego 9\, Ds-3 Kortowo\, Olsztyn\, 10-
 719\, Poland
GEO:53.755574;20.460456
X-APPLE-STRUCTURED-LOCATION;VALUE=URI;X-ADDRESS=ul\,Oczapowskiego 9\, Ds-3 
 Kortowo\, Olsztyn\, 10-719\, Poland;X-APPLE-RADIUS=100;X-TITLE=Club Antał
 ek:geo:53.755574,20.460456
END:VEVENT
BEGIN:VTIMEZONE
TZID:Europe/Warsaw
X-LIC-LOCATION:Europe/Warsaw
BEGIN:STANDARD
DTSTART:20191027T020000
TZOFFSETFROM:+0200
TZOFFSETTO:+0100
TZNAME:CET
END:STANDARD
END:VTIMEZONE
END:VCALENDAR