BEGIN:VCALENDAR
VERSION:2.0
PRODID:-//wp-events-plugin.com//7.2.3.1//EN
TZID:Europe/Warsaw
X-WR-TIMEZONE:Europe/Warsaw
BEGIN:VEVENT
UID:2051@night4u.pl
DTSTART;TZID=Europe/Warsaw:20190105T220000
DTEND;TZID=Europe/Warsaw:20190106T040000
DTSTAMP:20181231T132925Z
URL:https://night4u.pl/wydarzenia/5-01-2018-lets-start-the-carnival-at-the
 -view-warsaw/
SUMMARY:5.01.2018 / Let's Start The Carnival at The View Warsaw
DESCRIPTION:Rozpoczynamy okres karnawałowego szaleństwa!\nUbierzcie pięk
 ne stroje\, zabierzcie dobry humor i dołączcie do nas. Czeka Was kolorow
 a noc...122 metry nad codziennością\, na dachu Warszawy.\n\nSOBOTA 5.01.
 2019\n_____________________\n\nZagrają: \nWojciech 'Loui' Kucharski\nKacp
 er Kasp Bogacz\n_____________________\n\n*start: 22:00 / obowiązuje selek
 cja\n*rezerwacje: reservation@theview.pl / +48 663 971 942\n*wstęp: \n- s
 tandard 30 PLN\n- lista facebook: FREE do 23:00 (kliknij "wezmę udział")
 \n- między 3:00 a 4:00 wstęp FREE\n- wejście na imprezę możliwe do go
 dziny 4:00\n______________________\n\nTHE VIEW - LIKE NO OTHER.
ATTACH;FMTTYPE=image/jpeg:https://night4u.pl/wp-content/uploads/2018/12/81
 19_image_48404442_1936168786431186_1060658198270181376_o.jpg
CATEGORIES:mazowieckie
LOCATION:The View Warsaw\, Twarda 18\, Warsaw\, 00-105\, Poland
GEO:52.23443;20.99936
X-APPLE-STRUCTURED-LOCATION;VALUE=URI;X-ADDRESS=Twarda 18\, Warsaw\, 00-105
 \, Poland;X-APPLE-RADIUS=100;X-TITLE=The View Warsaw:geo:52.23443,20.99936
END:VEVENT
BEGIN:VTIMEZONE
TZID:Europe/Warsaw
X-LIC-LOCATION:Europe/Warsaw
BEGIN:STANDARD
DTSTART:20181028T020000
TZOFFSETFROM:+0200
TZOFFSETTO:+0100
TZNAME:CET
END:STANDARD
END:VTIMEZONE
END:VCALENDAR