BEGIN:VCALENDAR
VERSION:2.0
PRODID:-//wp-events-plugin.com//7.2.3.1//EN
TZID:Europe/Warsaw
X-WR-TIMEZONE:Europe/Warsaw
BEGIN:VEVENT
UID:44531@night4u.pl
DTSTART;TZID=Europe/Warsaw:20200205T210000
DTEND;TZID=Europe/Warsaw:20200206T040000
DTSTAMP:20200205T231035Z
URL:https://night4u.pl/wydarzenia/5-02-winter-vibes-feat-blacha-kielce/
SUMMARY:5.02 // Winter Vibes feat Blacha | Kielce
DESCRIPTION:Zimowe wibracje! ❄\n\nKto powiedział\, że w zimie ma być c
 hłodno? W UltraViolet poczujecie promienie letniego słońca\, a to wszys
 tko za sprawą naszego specjalnego gościa – tego wieczoru o wakacyjne d
 oznania zadba Blacha\, który pojawi się na Sienkiewicza już 5 lutego &l
 t\;3\nBędzie gooooorąąąąąco!\n\n\n Blacha\, właściwie Patryk Stefa
 ński (ur. 23 czerwca 1996) – polski raper pochodzący z Bydgoszczy. Gat
 unek jego muzyki to hip-hop. Popularność na Youtube przyniósł mu utwó
 r „Mademoiselle”\, który ma tam przeszło 67 miliona wyświetleń. W 
 2018 roku artysta wydał pierwszy legalny album &quot\;Trapical moon&quot\
 ;.\n\nPosłuchaj:\n🔥 „Mademoiselle” -  https://www.youtube.com/watc
 h?v=YWjMAWrwpc0\n🔥 „Casablanca” - https://www.youtube.com/watch?v=Z
 oa0Ho2HW9E\n🔥 „ Braciszku” - https://www.youtube.com/watch?v=8JdZjk
 MxI-4\n\n-----------------------------------------------------------------
 --------------------------\nBilety: \nStudenci ( za okazaniem legitymacji 
 przy wejściu 7 przedsprzedaż / 10 pln przy wejściu )\nReszta świata:\n
 Przedsprzedaż ( bez legitymacji studenckiej ) – 15 pln\nPrzy wejściu 
 – 20 pln\n\n\nRezerwacja loży :\n📞 518820320\n📨 rezerwacje@ultrav
 ioletclub\n\nKlub zastrzega sobie prawo do selekcji gości.\n\nWejście +1
 8
ATTACH;FMTTYPE=image/jpeg:https://night4u.pl/wp-content/uploads/2020/01/14
 3721_image_80870886_117394099801334_7198185018512900096_n.jpg
CATEGORIES:świętokrzyskie
LOCATION:UltraViolet - Exclusive Club\, ul. Sienkiewicza 33\, Kielce\, 25-0
 05\, Poland
GEO:50.87148;20.62637
X-APPLE-STRUCTURED-LOCATION;VALUE=URI;X-ADDRESS=ul. Sienkiewicza 33\, Kielc
 e\, 25-005\, Poland;X-APPLE-RADIUS=100;X-TITLE=UltraViolet - Exclusive Clu
 b:geo:50.87148,20.62637
END:VEVENT
BEGIN:VTIMEZONE
TZID:Europe/Warsaw
X-LIC-LOCATION:Europe/Warsaw
BEGIN:STANDARD
DTSTART:20191027T020000
TZOFFSETFROM:+0200
TZOFFSETTO:+0100
TZNAME:CET
END:STANDARD
END:VTIMEZONE
END:VCALENDAR