BEGIN:VCALENDAR
VERSION:2.0
PRODID:-//wp-events-plugin.com//7.2.3.1//EN
TZID:Europe/Warsaw
X-WR-TIMEZONE:Europe/Warsaw
BEGIN:VEVENT
UID:11712@night4u.pl
DTSTART;TZID=Europe/Warsaw:20190405T210000
DTEND;TZID=Europe/Warsaw:20190406T050000
DTSTAMP:20190403T193516Z
URL:https://night4u.pl/wydarzenia/5-04-rap-stacja-rap-x-trap-x-bassline-p5
 1-x-maic-bandit/
SUMMARY:5.04 Rap Stacja / rap x trap x bassline / P51 x Maic Bandit!
DESCRIPTION:Rap\, trap\, bassline - czyli "w skrócie" Rap Stacja! \nMuzyk
 ą zajmie się znany miksolog\, P51 pres. DJ Paragraph51\, gościnnie za m
 ajka złapie znany i lubiany MAIC Bandit\, będzie fajnie!  \n\nPrzelotka 
 po rapie starym i nowym\, polskim i nie polskim\, syntetycznie i klasyczni
 e - NO LEPIEJ OPISAĆ SIĘ TEGO NIE DA :D\n\nWstęp: do 22 za darmoszkę\n
 Od 22:00 \nStudenci 5zł \nReszta świata 10zł
ATTACH;FMTTYPE=image/jpeg:https://night4u.pl/wp-content/uploads/2019/04/30
 105_image_56189819_1217876578364604_6640377936241229824_o.jpg
CATEGORIES:kujawsko-pomorskie
LOCATION:To2\, Długa 9\, Bydgoszcz\, 85-034\, Poland
GEO:53.12164;17.99731
X-APPLE-STRUCTURED-LOCATION;VALUE=URI;X-ADDRESS=Długa 9\, Bydgoszcz\, 85-0
 34\, Poland;X-APPLE-RADIUS=100;X-TITLE=To2:geo:53.12164,17.99731
END:VEVENT
BEGIN:VTIMEZONE
TZID:Europe/Warsaw
X-LIC-LOCATION:Europe/Warsaw
BEGIN:DAYLIGHT
DTSTART:20190331T030000
TZOFFSETFROM:+0100
TZOFFSETTO:+0200
TZNAME:CEST
END:DAYLIGHT
END:VTIMEZONE
END:VCALENDAR