BEGIN:VCALENDAR
VERSION:2.0
PRODID:-//wp-events-plugin.com//7.2.3.1//EN
TZID:Europe/Warsaw
X-WR-TIMEZONE:Europe/Warsaw
BEGIN:VEVENT
UID:20885@night4u.pl
DTSTART;TZID=Europe/Warsaw:20190728T210000
DTEND;TZID=Europe/Warsaw:20190729T040000
DTSTAMP:20190704T023403Z
URL:https://night4u.pl/wydarzenia/5-urodziny-%e2%98%85-piekni-i-mlodzi-d-b
 omb-%e2%98%85-28-07/
SUMMARY:5 Urodziny ★ Piękni i Młodzi | D-Bomb ★ 28.07
DESCRIPTION:★ 5 URODZINY ★\n★ MAGNUM CLUB WACHÓW ★\nŚwiętujemy r
 azem z najlepszymi klubowiczami!\nMnóstwo atrakcji i prezentów!\nNa scen
 ie czołówka polskich artystów muzyki DANCE! \nTego wieczoru 2 mega gwia
 zdy! \n\nPIĘKNI I MŁODZI! Hity:\n"Ona jest taka cudowna"\, "Kocham się 
 w Tobie"\, "Tak już bez Ciebie" i wiele innych.\n\nD-BOMBi! Hity:\n"O Ela
 \, Ela"\, "Najbardziej dzisiaj chce"\, "Lubię kiedy" i wiele innych.\n\nN
 iedziela 28.07\nZagra także Zespół BIS i rezydencji klubu!\n-----------
 ----------------------\n★ Magnum Club★Wachów ★ul. Polna 13a★\n★
  Rezerwacje : 605 050 240 ★\n★ Start : 21.00 ★
ATTACH;FMTTYPE=image/jpeg:https://night4u.pl/wp-content/uploads/2019/07/49
 976_image_66263083_2285464134823664_8748355873757200384_o.jpg
CATEGORIES:opolskie
LOCATION:Magnum CLUB Wachów\, Polna 13\, Wachów\, 46-300\, Poland
GEO:50.844965;18.388158
X-APPLE-STRUCTURED-LOCATION;VALUE=URI;X-ADDRESS=Polna 13\, Wachów\, 46-300
 \, Poland;X-APPLE-RADIUS=100;X-TITLE=Magnum CLUB Wachów:geo:50.844965,18.
 388158
END:VEVENT
BEGIN:VTIMEZONE
TZID:Europe/Warsaw
X-LIC-LOCATION:Europe/Warsaw
BEGIN:DAYLIGHT
DTSTART:20190331T030000
TZOFFSETFROM:+0100
TZOFFSETTO:+0200
TZNAME:CEST
END:DAYLIGHT
END:VTIMEZONE
END:VCALENDAR