BEGIN:VCALENDAR
VERSION:2.0
PRODID:-//wp-events-plugin.com//7.2.3.1//EN
TZID:Europe/Warsaw
X-WR-TIMEZONE:Europe/Warsaw
BEGIN:VEVENT
UID:45660@night4u.pl
DTSTART;TZID=Europe/Warsaw:20200228T230000
DTEND;TZID=Europe/Warsaw:20200229T060000
DTSTAMP:20200229T022906Z
URL:https://night4u.pl/wydarzenia/5-urodziny-international-day-off-tama/
SUMMARY:5 urodziny International Day Off | Tama Bar
DESCRIPTION:5 urodziny to istotny powód do celebracji w rodzinnym gronie. 
 International Day Off to od 5 lat prężnie działająca wytwórnia płyto
 wa z Poznania\, która specjalizuje się przestrzeniach dźwiękowych z po
 granicza minimalu i hipnotycznego techno. Jej katalog tworzą między inny
 mi: Jacek Sienkiewicz\, Jurek Przeździecki\, Michał Wloski\, Gary Holldm
 an czy duet Fisherboyz. \n\nZ okazji obchodów 5 urodzin istnienia labelu 
 w Tama Bar zagrają:\n\nMichał Wolski HYBRID SET\nJurek Przezdziecki LIVE
 \nGary Holldman\nKill Blinton\n\ntax: 10 / 20 pln\n10 pln lista fb "wezmę
  udział" do 24:00\n20 pln pozostali\nlistę zamykamy w dniu imprezy o 20
ATTACH;FMTTYPE=image/jpeg:https://night4u.pl/wp-content/uploads/2020/01/14
 8198_image_84569817_2565257350461975_3261532395748196352_o.jpg
CATEGORIES:wielkopolskie
LOCATION:Tama Bar\, Niezłomnych 2\, Poznan\, 61-582\, Poland
GEO:52.402188;16.921897
X-APPLE-STRUCTURED-LOCATION;VALUE=URI;X-ADDRESS=Niezłomnych 2\, Poznan\, 6
 1-582\, Poland;X-APPLE-RADIUS=100;X-TITLE=Tama Bar:geo:52.402188,16.921897
END:VEVENT
BEGIN:VTIMEZONE
TZID:Europe/Warsaw
X-LIC-LOCATION:Europe/Warsaw
BEGIN:STANDARD
DTSTART:20191027T020000
TZOFFSETFROM:+0200
TZOFFSETTO:+0100
TZNAME:CET
END:STANDARD
END:VTIMEZONE
END:VCALENDAR