BEGIN:VCALENDAR
VERSION:2.0
PRODID:-//wp-events-plugin.com//7.2.3.1//EN
TZID:Europe/Warsaw
X-WR-TIMEZONE:Europe/Warsaw
BEGIN:VEVENT
UID:49255@night4u.pl
DTSTART;TZID=Europe/Warsaw:20200307T210000
DTEND;TZID=Europe/Warsaw:20200308T040000
DTSTAMP:20200307T083944Z
URL:https://night4u.pl/wydarzenia/7-03-zespol-news-i-dzien-kobiet/
SUMMARY:7.03- zespół News i dzień kobiet
DESCRIPTION:Dzień kobiet w Explosion w sobotę 7.03\nZespół NEWS zagra n
 a naszej scenie...\nUsłyszycie: LALECZKA\, ALE FAJNE NOGI\, MASZ W GŁOWI
 E FIGLE\n\nDla pierwszych 50 Pań drink gratis\n\nNa sali klubowej spośr
 ód Pań bawiących się na parkiecie Dj wylosuje 3 osoby które wygrają 
 MOETA !\n\nW dniu imprezy wylosujemy trzy osoby które wygrają lożę na 
 sali klubowej\, but. wódki\, napój i wejście dla 6 osób.\nWystarczy\, 
 wykonać 3 proste kroki:\n- wziąć udział w wydarzeniu\n- zaprosić na n
 ie min. 100 osób\n- napisać w komentarzu ile osób zaprosiliście\n\nPow
 odzenia
ATTACH;FMTTYPE=image/jpeg:https://night4u.pl/wp-content/uploads/2020/03/17
 0551_image_89100282_1727179290758364_4835553071243198464_o.jpg
CATEGORIES:mazowieckie
LOCATION:Explosion Club Radom\, ul. Wernera 10 ( róg Szarych Szeregów)\, 
 Radom\, 26-610\, Poland
GEO:51.409191;21.144698
X-APPLE-STRUCTURED-LOCATION;VALUE=URI;X-ADDRESS=ul. Wernera 10 ( róg Szary
 ch Szeregów)\, Radom\, 26-610\, Poland;X-APPLE-RADIUS=100;X-TITLE=Explosi
 on Club Radom:geo:51.409191,21.144698
END:VEVENT
BEGIN:VTIMEZONE
TZID:Europe/Warsaw
X-LIC-LOCATION:Europe/Warsaw
BEGIN:STANDARD
DTSTART:20191027T020000
TZOFFSETFROM:+0200
TZOFFSETTO:+0100
TZNAME:CET
END:STANDARD
END:VTIMEZONE
END:VCALENDAR