BEGIN:VCALENDAR
VERSION:2.0
PRODID:-//wp-events-plugin.com//7.2.3.1//EN
TZID:Europe/Warsaw
X-WR-TIMEZONE:Europe/Warsaw
BEGIN:VEVENT
UID:18126@night4u.pl
DTSTART;TZID=Europe/Warsaw:20190607T220000
DTEND;TZID=Europe/Warsaw:20190608T050000
DTSTAMP:20190603T202740Z
URL:https://night4u.pl/wydarzenia/7-06-%e2%98%85-put-in-%e2%98%85-bialysto
 k-%e2%98%85-elixir-club-%e2%98%85-wstep-wolny-%e2%98%8516/
SUMMARY:7/06 ★ Put-In ★ Białystok ★ Elixir Club ★ Wstęp wolny ★
 16+
DESCRIPTION:? ELIXIR CLUB przedstawia: ?\n\n► Impreza na której wystąpi
  PUT-IN\n► 7.06.2019\n► START 22.00\n► WSTĘP: 16+\n► DRESSCODE: N
 O-SPORT\n► WEJŚCIE: 20PLN (bilety do kupienia w dniu imprezy na bramce)
 \n► Konkurs!\n\nPIERWSZE 50 OSÓB WCHODZI DO LOKALU ZA DARMO ! \nWarunek
  - musisz udostępnić publicznie wydarzenie i kliknąć wezmę udział (o
 soby\, które udostępnią wydarzenie przed wejściem do lokalu w dniu imp
 rezy- nie będą brane pod uwagę :) ) \n\n_______________________________
 _______________________\n\nPodczas wspólnej zabawy usłyszycie najlepsze 
 utwory PUT-IN\, które są znane wszystkim. Tej nocy będziecie uczestnika
 mi najlepszego melanżu w Białymstoku :] Nie może Cię u nas zabraknąć
 !\n\n________________________________________________________\n\nPUT-IN to
  twórca hitów takich jak: \n\n► PIOSENKA O BIAŁYM MISIU\nhttps://yout
 u.be/e_ooxjzzR0o\n\n► RAMIĘ W RAMIĘ JAK SPARTANIE\nhttps://youtu.be/U8
 y7iFPDxrQ\n\n► PRINCESSA\nhttps://youtu.be/TN0kf8G_AL0\n\n► URODZINY\n
 https://youtu.be/Q9bpqAWxXvo\n\n► Cukier Drożdze Destylacja\nhttps://ww
 w.youtube.com/watch?v=eKRQqgFvqA4\n_______________________________________
 _________________\n\nATRAKCJE:\n\n► Fotograf\, który będzie uwiecznia
 ć wspaniałe chwile\n► Kilkominutowy filmik z imprezy \n► Wiele niesp
 odzianek\n\n________________________________________________________\n\nMi
 ejsce\, w którym odbędzie się impreza to nowo otwarty ELIXIR CLUB\, mie
 szczący się przy ul. Lipowej 30. Lokal\, który jest po kapitalnym remon
 cie posiada najnowsze technologie oświetlenia i nagłośnienia. Nasi rezy
 denci zadbają o najlepszą oprawę muzyczną w Białymstoku! W trakcie im
 prezy spróbujecie także świetnych drinków w atrakcyjnych cenach!\n____
 ____________________________________________________\nKlub zastrzega prawo
  do selekcji gości. Wchodząc\, akceptujesz regulamin klubu (m.in publiko
 wanie zdjęć i filmów)\n\nTo będzie niezapomniana noc! ?
ATTACH;FMTTYPE=image/jpeg:https://night4u.pl/wp-content/uploads/2019/06/43
 862_image_61202004_2336255733105604_1753288946822938624_o.jpg
CATEGORIES:podlaskie
END:VEVENT
BEGIN:VTIMEZONE
TZID:Europe/Warsaw
X-LIC-LOCATION:Europe/Warsaw
BEGIN:DAYLIGHT
DTSTART:20190331T030000
TZOFFSETFROM:+0100
TZOFFSETTO:+0200
TZNAME:CEST
END:DAYLIGHT
END:VTIMEZONE
END:VCALENDAR