BEGIN:VCALENDAR
VERSION:2.0
PRODID:-//wp-events-plugin.com//7.2.3.1//EN
TZID:Europe/Warsaw
X-WR-TIMEZONE:Europe/Warsaw
BEGIN:VEVENT
UID:18353@night4u.pl
DTSTART;TZID=Europe/Warsaw:20190607T220000
DTEND;TZID=Europe/Warsaw:20190608T040000
DTSTAMP:20190605T205409Z
URL:https://night4u.pl/wydarzenia/7-06-%e2%98%85-wielki-studencki-bang-%e2
 %98%85/
SUMMARY:7.06 ★ Wielki studencki BANG! ★
DESCRIPTION:To będzie prawdziwy SZTOS! \n7 czerwca zapraszamy na wielki st
 udencki BANG w Ground Club!\nNa miejscu standardowo: najbardziej taneczna 
 muzyka\, promocje na barze i najlepsza\, studencka atmosfera. Tego wydarze
 nia nie można przegapić!\nWasze muzyczne podniebienia łechtać będzie 
 Groundowy rezydent - TweeK !\n★★★★★★★★★★★★★★
 ★\nkiedy: 7.06 (piatek)\ngdzie: pl. łuczkowskiego11 w Ground Club\nstar
 t: 22:00\nbefore: 20:00 -> ogródek letni \nwstęp: studenci FREE do 23:00
 / po 23:00 - 10zł\n           pozostali 10 zł\n★★★★★★★★
 ★★★★★★★\nW tym dniu obowiązują ceny studenckie dla naszych
  chełmskich żaków do 23:00 :\n★ wjazd FREE do 23:00\;\n★ Piwo lane 
 - 3 zł\n★ shot - 3zł\n★ rezerwacje lóż - 2 flaszki w cenie jednej 
 do 23:00!\n\nZabierzcie ze sobą dobry humor\, masę pozytywnej energii i 
 szykujcie się na niezapomnianą noc! ??
ATTACH;FMTTYPE=image/jpeg:https://night4u.pl/wp-content/uploads/2019/06/44
 335_image_61947267_2217277675004607_4586529531686289408_o.jpg
CATEGORIES:lubelskie
LOCATION:Ground Club\, Pl Łuczkowskiego 11\, Chełm\, 22-100\, Poland
GEO:51.13286;23.47388
X-APPLE-STRUCTURED-LOCATION;VALUE=URI;X-ADDRESS=Pl Łuczkowskiego 11\, Che
 łm\, 22-100\, Poland;X-APPLE-RADIUS=100;X-TITLE=Ground Club:geo:51.13286,
 23.47388
END:VEVENT
BEGIN:VTIMEZONE
TZID:Europe/Warsaw
X-LIC-LOCATION:Europe/Warsaw
BEGIN:DAYLIGHT
DTSTART:20190331T030000
TZOFFSETFROM:+0100
TZOFFSETTO:+0200
TZNAME:CEST
END:DAYLIGHT
END:VTIMEZONE
END:VCALENDAR