BEGIN:VCALENDAR
VERSION:2.0
PRODID:-//wp-events-plugin.com//7.2.3.1//EN
TZID:Europe/Warsaw
X-WR-TIMEZONE:Europe/Warsaw
BEGIN:VEVENT
UID:38062@night4u.pl
DTSTART;TZID=Europe/Warsaw:20191207T210000
DTEND;TZID=Europe/Warsaw:20191208T040000
DTSTAMP:20191207T224328Z
URL:https://night4u.pl/wydarzenia/7-12-%e2%98%85%e2%98%86%e2%98%85-hohoho-
 %e2%98%85%e2%98%86%e2%98%85-ale-melanz-%e2%98%85-dj-white/
SUMMARY:7.12 ★☆★ HoHoHo ★☆★ Ale melanż ★ Dj White
DESCRIPTION:List do Mikołaja napisany? - I tak nie odpisze... Jest zajęty
  przygotowaniami do imprezy w Ground Club\, która zapowiada się na gruby
  melanż! \nTego dnia Mikołajem również będzie DJ WHITE  który wysypi
 e muzyczne prezenty ze swojego worka zza Dj-ki!\n🎅🎅🎅🎅\nBędzie
  to Noc pełna świątecznego klimatu oraz prezentów\, które dla was prz
 ygotowaliśmy »»» beka piwa Królewskie dla wszystkich na start! \n🎅
 🎅🎅🎅\nDołącz do wydarzenia i melanżuj z nami !\n🎅🎅🎅
 🎅\n⛄ ★ Ground Club ★ [Pl. Łuczkowskiego 11] ⛄\n🎅 Prezenty n
 a barze!\n -  beka piwa na start! #królewskie \n🎄️ Wstęp:  - 10 zł
 \n🎄 Wiek :18+ \n🎄 Dress: Smart Casual (luźno\, ale z klasą)\n🎄 
 Start: 21:00 / Koniec: 4:00\nDJ's: \n🎄 DJ WHITE (Michał White)\n\n----
 --------------------------------------------\nRezerwacje stolików:\n☎ 6
 68 15 22 08
ATTACH;FMTTYPE=image/jpeg:https://night4u.pl/wp-content/uploads/2019/12/10
 8765_image_78296782_2570556096343428_3328928537225723904_o.jpg
CATEGORIES:lubelskie
LOCATION:Ground Club\, Pl Łuczkowskiego 11\, Chełm\, 22-100\, Poland
GEO:51.13286;23.47388
X-APPLE-STRUCTURED-LOCATION;VALUE=URI;X-ADDRESS=Pl Łuczkowskiego 11\, Che
 łm\, 22-100\, Poland;X-APPLE-RADIUS=100;X-TITLE=Ground Club:geo:51.13286,
 23.47388
END:VEVENT
BEGIN:VTIMEZONE
TZID:Europe/Warsaw
X-LIC-LOCATION:Europe/Warsaw
BEGIN:STANDARD
DTSTART:20191027T020000
TZOFFSETFROM:+0200
TZOFFSETTO:+0100
TZNAME:CET
END:STANDARD
END:VTIMEZONE
END:VCALENDAR