BEGIN:VCALENDAR
VERSION:2.0
PRODID:-//wp-events-plugin.com//7.2.3.1//EN
TZID:Europe/Warsaw
X-WR-TIMEZONE:Europe/Warsaw
BEGIN:VEVENT
UID:38685@night4u.pl
DTSTART;TZID=Europe/Warsaw:20191207T210000
DTEND;TZID=Europe/Warsaw:20191208T040000
DTSTAMP:20191207T224824Z
URL:https://night4u.pl/wydarzenia/7-12-%e2%9c%aa-klubowe-mikolajki-%e2%9c%
 aa-cypis-solo-%e2%9c%aa-zilion-wrzelowiec/
SUMMARY:7.12 ✪ Klubowe Mikołajki ✪ Cypis Solo ✪ Zilion Wrzelowiec
DESCRIPTION:🔴 SOBOTA - 7.12.2019 🔴\n👉 Zilion CLUB - Wrzelowiec\n\n
 🎅 KLUBOWE MIKOŁAJKI 2019 🎅\n\n➡ Sala Dance\n\n⭐ Koncert Cypis S
 olo ⭐\ntwórca hitów:\n\n📌 BIAŁA MEWA\nhttps://www.youtube.com/watc
 h?v=n4u67vFHm6I\n📌 6 DZIEŃ TYGODNIA\nhttps://www.youtube.com/watch?v=A
 0P-3boS9qQ\n📌 MAMY MOC\nhttps://www.youtube.com/watch?v=NPqkVTVq9c0\n
 📌 IMPRA JEST TU\nhttps://www.youtube.com/watch?v=7KUj-j1mlwQ\n_________
 ___________________\n🚧 REZYDENCI 🚧\n\n🔊 Sala KLUBOWA : 🔴 DJ Le
 chu 🔴 DJ HUDY\n🔊 Sala DANCE : 🔴 DJ Goryl\n_______________________
 _____\n⏰ START - 21:00\n📸 FOTORELACJA\n♥ ♥ ♥ ♥ ♥ ♥ ♥ 
 ♥ ♥\nDO ZOBACZENIA W ZILIONIE❗😍😍
ATTACH;FMTTYPE=image/jpeg:https://night4u.pl/wp-content/uploads/2019/12/11
 1060_image_78301649_2887287207951217_6306669500011905024_o.jpg
CATEGORIES:lubelskie
LOCATION:Zilion CLUB - Wrzelowiec\, ul. Opolska 3\, Wrzelowiec\, 24-320\, P
 oland
GEO:51.097745;21.932795
X-APPLE-STRUCTURED-LOCATION;VALUE=URI;X-ADDRESS=ul. Opolska 3\, Wrzelowiec\
 , 24-320\, Poland;X-APPLE-RADIUS=100;X-TITLE=Zilion CLUB - Wrzelowiec:geo:
 51.097745,21.932795
END:VEVENT
BEGIN:VTIMEZONE
TZID:Europe/Warsaw
X-LIC-LOCATION:Europe/Warsaw
BEGIN:STANDARD
DTSTART:20191027T020000
TZOFFSETFROM:+0200
TZOFFSETTO:+0100
TZNAME:CET
END:STANDARD
END:VTIMEZONE
END:VCALENDAR