BEGIN:VCALENDAR
VERSION:2.0
PRODID:-//wp-events-plugin.com//7.2.3.1//EN
TZID:Europe/Warsaw
X-WR-TIMEZONE:Europe/Warsaw
BEGIN:VEVENT
UID:42009@night4u.pl
DTSTART;TZID=Europe/Warsaw:20200111T210000
DTEND;TZID=Europe/Warsaw:20200112T050000
DTSTAMP:20200111T184341Z
URL:https://night4u.pl/wydarzenia/7-urodziny-harem-club-gwiazda-nocy-4-str
 ings-take-me-away/
SUMMARY:7 Urodziny HAREM CLUB - gwiazda nocy 4 Strings /"Take me away"/
DESCRIPTION:NH Gdynia zaprasza na celebrację siódmych urodzin Harem Club.
  To już 7 lat imprez pod szyldem Haremu. Specjalnie na tą okazję zapros
 iliśmy kolejną gwiazdę - 4 Strings. Legenda muzyki trance\, ich przebó
 j "Take me away" znają klubowicze na całym świecie. Nie zabraknie takż
 e innyc niespodzianek - show taneczne w wykonaniu ARS DANCE Group\, torta 
 urodzinowego i wielu innych. Kolejne karty odkrywać będziemy wkrótce. B
 ądźcie czujni\n\nMuzyka:\n4 Strings\nSupport:\nPHIL NOVY i goście\n\nWs
 tęp płatny:  \n                        \n                        - stand
 ardowy bilet wstępu 30 zł (w dniu imprezy)\n                          pr
 zedsprzedaż od 2.01.2019 godzina 20.00\n                          Pula I 
 - 20 zł\n                          Pula II - 25 zł\n                    
     - karty klubowe wstęp wolny\n\n*Wstęp "18+"\, w razie wątpliwości 
 selekcjoner ma prawo poprosić o dokument potwierdzający wiek.\n** Strój
  wieczorowy\, modny\, klubowy\, niekoniecznie galowy\, zdecydowanie nie sp
 ortowy. Wyglądaj dobrze\, czuj się komfortowo\, spraw by inni mieli co p
 odziwiać\;)    \n\nRezerwacje: \n                     tel. +48 602-213-32
 3 lub wiadomość prywatna  \n                     *Regulamin i zasady rez
 erwacji - kliknij link: \n                     https://tinyurl.com/zasadyr
 ezerwacji
ATTACH;FMTTYPE=image/jpeg:https://night4u.pl/wp-content/uploads/2020/01/13
 2504_image_81370317_713652825792989_8976925512035205120_n.jpg
CATEGORIES:pomorskie
LOCATION:Nowy Harem Gdynia\, 3 Maja 28\, Gdynia\, 81-364\, Poland
GEO:54.519089;18.535287
X-APPLE-STRUCTURED-LOCATION;VALUE=URI;X-ADDRESS=3 Maja 28\, Gdynia\, 81-364
 \, Poland;X-APPLE-RADIUS=100;X-TITLE=Nowy Harem Gdynia:geo:54.519089,18.53
 5287
END:VEVENT
BEGIN:VTIMEZONE
TZID:Europe/Warsaw
X-LIC-LOCATION:Europe/Warsaw
BEGIN:STANDARD
DTSTART:20191027T020000
TZOFFSETFROM:+0200
TZOFFSETTO:+0100
TZNAME:CET
END:STANDARD
END:VTIMEZONE
END:VCALENDAR