BEGIN:VCALENDAR
VERSION:2.0
PRODID:-//wp-events-plugin.com//7.2.3.1//EN
TZID:Europe/Warsaw
X-WR-TIMEZONE:Europe/Warsaw
BEGIN:VEVENT
UID:6049@night4u.pl
DTSTART;TZID=Europe/Warsaw:20190223T200000
DTEND;TZID=Europe/Warsaw:20190224T060000
DTSTAMP:20190201T053230Z
URL:https://night4u.pl/wydarzenia/7-urodziny-klubu-kancelaria/
SUMMARY:7 urodziny Klubu Kancelaria
DESCRIPTION:No i kolejne urodziny zbliżają się wielkimi krokami.\n\nNasz
 e 7 urodziny to impreza\, której na pewno nie możecie przegapić.\n\nImp
 reza w klimacie lat 20 to powrót do czasów z prohibicją\, czasów rozkw
 itu przedsiębiorczości i przestępczości (osobno i razem). Wyjątkowy c
 zas zabawy\, na jaką nigdy wcześniej się nie odważono!\n\nPoczuj ten k
 limat!!!\nPrzebierz się!!!\nNiezależnie od tego\, czy bliżej Ci do Wiel
 kiego Gatsby’ego\, Ala Capone czy Marilyn Monroe. Możesz wybrać zarów
 no eleganckie kostiumy w przestępczym stylu\, albo rozrywkowe kreacje\, o
 dsłaniające niemało tam i ówdzie. \n\nNasze urodziny to nie tylko klim
 at lat 20 ale również moc atrakcji : konkursy z nagrodami\, tort i szamp
 an\, saksofon na żywo i wiele wiele innych.\n\n \n\nZapraszamy!
ATTACH;FMTTYPE=image/jpeg:https://night4u.pl/wp-content/uploads/2019/01/18
 125_image_50808869_2090621317690456_2411349486430322688_n.jpg
CATEGORIES:kujawsko-pomorskie
LOCATION:Klub Kancelaria\, ul. Przesmyk 1\, Bydgoszcz\, 85-034\, Poland
GEO:53.120884;17.99911
X-APPLE-STRUCTURED-LOCATION;VALUE=URI;X-ADDRESS=ul. Przesmyk 1\, Bydgoszcz\
 , 85-034\, Poland;X-APPLE-RADIUS=100;X-TITLE=Klub Kancelaria:geo:53.120884
 ,17.99911
END:VEVENT
BEGIN:VTIMEZONE
TZID:Europe/Warsaw
X-LIC-LOCATION:Europe/Warsaw
BEGIN:STANDARD
DTSTART:20181028T020000
TZOFFSETFROM:+0200
TZOFFSETTO:+0100
TZNAME:CET
END:STANDARD
END:VTIMEZONE
END:VCALENDAR