BEGIN:VCALENDAR
VERSION:2.0
PRODID:-//wp-events-plugin.com//7.2.3.1//EN
TZID:Europe/Warsaw
X-WR-TIMEZONE:Europe/Warsaw
BEGIN:VEVENT
UID:6055@night4u.pl
DTSTART;TZID=Europe/Warsaw:20190208T210000
DTEND;TZID=Europe/Warsaw:20190209T050000
DTSTAMP:20190201T053232Z
URL:https://night4u.pl/wydarzenia/8-02-brda-erdmann-x-lesu/
SUMMARY:8/02 BRDA / Erdmann x Lesu
DESCRIPTION:BRDA\n\nÓsmy luty to nie tylko polskie Święto Służby Więz
 iennej\, irackie Święto Rewolucji\, czy rozpoczęcie Zimowych Igrzysk Ol
 impijskich w Sarajewie 84. Jest to także wyjątkowy dzień dla ludzi lubu
 jących się w dźwiękach muzyki elektronicznej ponieważ spotka się dw
 óch dj’ów\, którzy znani są z niekonwencjonalnego podejścia do muzy
 ki techno. Erdmann i Lesu poprowadzą Was przez całonocną zabawę w klub
 ie To2. Przeniesiemy się również w lata 90-te w muzyce house\, a także
  zahaczymy o elementy trance’owe. Zapowiada się dobra zabawa więc nie 
 zapomnijcie zabrać dobrych humorów oraz wygodnych butów. Do zobaczenia 
 na parkiecie! \n\nWstęp: \nDo 23:00 - 0zł \nOd 23:00 \nStudenci 5zł \nR
 eszta Świata 10zł
ATTACH;FMTTYPE=image/jpeg:https://night4u.pl/wp-content/uploads/2019/01/18
 138_image_51354284_1179200922232170_665428689147658240_o.jpg
CATEGORIES:kujawsko-pomorskie
LOCATION:To2\, Długa 9\, Bydgoszcz\, 85-034\, Poland
GEO:53.12164;17.99731
X-APPLE-STRUCTURED-LOCATION;VALUE=URI;X-ADDRESS=Długa 9\, Bydgoszcz\, 85-0
 34\, Poland;X-APPLE-RADIUS=100;X-TITLE=To2:geo:53.12164,17.99731
END:VEVENT
BEGIN:VTIMEZONE
TZID:Europe/Warsaw
X-LIC-LOCATION:Europe/Warsaw
BEGIN:STANDARD
DTSTART:20181028T020000
TZOFFSETFROM:+0200
TZOFFSETTO:+0100
TZNAME:CET
END:STANDARD
END:VTIMEZONE
END:VCALENDAR