BEGIN:VCALENDAR
VERSION:2.0
PRODID:-//wp-events-plugin.com//7.2.3.1//EN
TZID:Europe/Warsaw
X-WR-TIMEZONE:Europe/Warsaw
BEGIN:VEVENT
UID:46041@night4u.pl
DTSTART;TZID=Europe/Warsaw:20200208T200000
DTEND;TZID=Europe/Warsaw:20200209T040000
DTSTAMP:20200208T083215Z
URL:https://night4u.pl/wydarzenia/8-02-ksiaze-kapota-noc-oczyszczenia-vol-
 3-mega-music/
SUMMARY:8.02 Książę Kapota / Noc Oczyszczenia - Vol.3 / Mega Music
DESCRIPTION:8.02 NAJGRUBSZE ROZPOCZĘCIE FERII 2020 ❗️\nNa naszej sceni
 e jeden z bardziej rozpoznawalnych raperów\n⭐️ KSIĄŻĘ KAPOTA ⭐
 ️\n    Książę Kapota\n\n➡️ Support -MŁODI\n\nSala klubowa\n💚 
 NOC OCZYSZCZENIA - Vol 3 💚\nNowy Wymiar Imprez z Mistrzowską obsadą 
 ❗️\nSześć twarzy muzyki w wielkim spektaklu\n✅ GASHMAKER\n✅ MALO
 S\n✅ DĄBER\n✅ JOK3R\n✅ LEWY\n✅ CABAY\nNoc Oczyszczenia naruszy cz
 asoprzestrzeń Mega Music.\nW jaki sposób ❓ Musisz być i sam zobaczyć
  💚\n\n⭐️BO MEGA IMPREZY TYLKO W MEGA MUSIC WILGA ⭐️
ATTACH;FMTTYPE=image/jpeg:https://night4u.pl/wp-content/uploads/2020/02/15
 0751_image_84568697_3572909762779182_7264767220738162688_o.jpg
CATEGORIES:mazowieckie
LOCATION:Mega Music Wilga (Oficjalne konto klubu)\, Stawowa 9\, Wilga\, 08-
 470\, Poland
GEO:51.84353;21.386362
X-APPLE-STRUCTURED-LOCATION;VALUE=URI;X-ADDRESS=Stawowa 9\, Wilga\, 08-470\
 , Poland;X-APPLE-RADIUS=100;X-TITLE=Mega Music Wilga (Oficjalne konto klub
 u):geo:51.84353,21.386362
END:VEVENT
BEGIN:VTIMEZONE
TZID:Europe/Warsaw
X-LIC-LOCATION:Europe/Warsaw
BEGIN:STANDARD
DTSTART:20191027T020000
TZOFFSETFROM:+0200
TZOFFSETTO:+0100
TZNAME:CET
END:STANDARD
END:VTIMEZONE
END:VCALENDAR