BEGIN:VCALENDAR
VERSION:2.0
PRODID:-//wp-events-plugin.com//7.2.3.1//EN
TZID:Europe/Warsaw
X-WR-TIMEZONE:Europe/Warsaw
BEGIN:VEVENT
UID:5457@night4u.pl
DTSTART;TZID=Europe/Warsaw:20190208T210000
DTEND;TZID=Europe/Warsaw:20190210T050000
DTSTAMP:20190130T175822Z
URL:https://night4u.pl/wydarzenia/8-9-02-disco-party-shots/
SUMMARY:8-9.02 - Disco Party Shots
DESCRIPTION:Bajka Disco Club to rozpoznawalna marka klubowa w całym kraju.
  Obecnie są to 3 gorące punkty w Łodzi\, Rzeszowie oraz Toruniu. Kluby 
 te charakteryzuje ujednolicona scenografia oraz spójność muzyczna. Serc
 em każdego lokalu jest oczywiście sterowna podłoga wraz ze ścianą. Im
 prezowe piątki oraz soboty to koncerty największych gwiazd sceny disco p
 olo & dance oraz wysokiej klasy imprezy tematyczne.\n\nWitajcie w naszej B
 ajce!\n\n8-9.02 - DISCO PARTY SHOTS\n\nDrodzy klubowicze w ten zakręcony 
 weekend w naszym klubie obowiązuje 1 słowo: SHOTS! Mamy dla Was przygoto
 wane w zawrotnej cenie super smaczne i kolorowe shoty:\n- 3 x wódka pow p
 ow = 10 PLN\n- 3 x gin jeb jeb = 10 PLN\n- 3 x rum pum pum = 10 PLN\nSHOTS
 !SHOTS!SHOTS!\n\nImprezy nakręcą nasi zawodowcy:\n\ngłówna: DJ JOKER\n
 exclusive: DJ DREAM\nesko bar: DJ ALEX LIGHT\n\n\nStart: 21:00\nWstęp: 10
  ZŁ\n\nLajkujcie nas i odwiedzajcie na:\nwww.facebook.com/bajkadiscoclubr
 zeszow\nwww.bajkadiscoclub.pl\n\nBAJKA DISCO CLUB\nRzeszów\, Ul. Piłsuds
 kiego 34.
ATTACH;FMTTYPE=image/jpeg:https://night4u.pl/wp-content/uploads/2019/01/16
 830_image_51102512_2069208043166373_3055312139485970432_o.jpg
CATEGORIES:podkarpackie
LOCATION:BAJKA DISCO CLUB Rzeszów\, Ul. Piłsudskiego 34\, Rzeszów\, 35-0
 01\, Poland
GEO:50.041268;22.003453
X-APPLE-STRUCTURED-LOCATION;VALUE=URI;X-ADDRESS=Ul. Piłsudskiego 34\, Rzes
 zów\, 35-001\, Poland;X-APPLE-RADIUS=100;X-TITLE=BAJKA DISCO CLUB Rzeszó
 w:geo:50.041268,22.003453
END:VEVENT
BEGIN:VTIMEZONE
TZID:Europe/Warsaw
X-LIC-LOCATION:Europe/Warsaw
BEGIN:STANDARD
DTSTART:20181028T020000
TZOFFSETFROM:+0200
TZOFFSETTO:+0100
TZNAME:CET
END:STANDARD
END:VTIMEZONE
END:VCALENDAR