BEGIN:VCALENDAR
VERSION:2.0
PRODID:-//wp-events-plugin.com//7.2.3.1//EN
TZID:Europe/Warsaw
X-WR-TIMEZONE:Europe/Warsaw
BEGIN:VEVENT
UID:35017@night4u.pl
DTSTART;TZID=Europe/Warsaw:20191108T210000
DTEND;TZID=Europe/Warsaw:20191110T050000
DTSTAMP:20191109T215442Z
URL:https://night4u.pl/wydarzenia/8-9-11-przez-twe-oczy-zielone/
SUMMARY:8-9.11 - Przez Twe Oczy Zielone
DESCRIPTION:8-9.11 - PRZEZ TWE OCZY ZIELONE\n\nTaka impreza w Bajce\, że o
 szaleć można :D\n\nZagra: DJ JOKER &amp\; DJ LIZARD\n\nStart 21:00\, sel
 ekcja +18 lat\nWstęp 10 PLN\n\nLajkujcie nas i odwiedzajcie na:\nwww.bajk
 adiscoclub.pl\nwww.facebook.com/bajkadiscoclublodz\n\nBAJKA DISCO CLUB\nŁ
 ódź\, Piotrkowska 90.
ATTACH;FMTTYPE=image/jpeg:https://night4u.pl/wp-content/uploads/2019/11/91
 934_image_75278357_1313417852169465_6867891562320232448_o.jpg
CATEGORIES:łódzkie
LOCATION:BAJKA DISCO CLUB Łódź\, Piotrkowska 90\, Łódź\, 90-103\, Pol
 and
GEO:51.76649;19.45728
X-APPLE-STRUCTURED-LOCATION;VALUE=URI;X-ADDRESS=Piotrkowska 90\, Łódź\, 
 90-103\, Poland;X-APPLE-RADIUS=100;X-TITLE=BAJKA DISCO CLUB Łódź:geo:51
 .76649,19.45728
END:VEVENT
BEGIN:VTIMEZONE
TZID:Europe/Warsaw
X-LIC-LOCATION:Europe/Warsaw
BEGIN:STANDARD
DTSTART:20191027T020000
TZOFFSETFROM:+0200
TZOFFSETTO:+0100
TZNAME:CET
END:STANDARD
END:VTIMEZONE
END:VCALENDAR