BEGIN:VCALENDAR
VERSION:2.0
PRODID:-//wp-events-plugin.com//7.2.3.1//EN
TZID:Europe/Warsaw
X-WR-TIMEZONE:Europe/Warsaw
BEGIN:VEVENT
UID:40438@night4u.pl
DTSTART;TZID=Europe/Warsaw:20191225T200000
DTEND;TZID=Europe/Warsaw:20191226T030000
DTSTAMP:20191225T234148Z
URL:https://night4u.pl/wydarzenia/8-urodziny-nasty-groove/
SUMMARY:8 Urodziny Nasty Groove
DESCRIPTION:The same people \,the same town \, the same dancefloor.\n\n  Ju
 ż ósmy raz mamy przyjemność zaprosić Was na wspólne świętowanie.\n
   Boże Narodzenie to czas spotkań i wspólnego świętowania \, tak wię
 c i my chcielibyśmy wspólnie z Wami świętować ten czas.\n  Nasz kolek
 tyw już od ośmiu lat działa pod znakiem psiego pyska i ma sie całkiem 
 nieźle jak i sama psina :)\n  Tego wieczoru chcielibyśmy oderwać Was od
  stołów by razem się spotkać w murach naszej zamojskiej Kazamaty i nar
 obić sporo hałasu .\n Za sterami oczywiście członkowie kolektywu \, mi
 le widziani też goście i nasi przyjaciele \, więc jeśli się zastanawi
 asz to zabieraj ze sobą graty i pogramy wspólnie .\n\n Start 20:00\nWjaz
 d 10pln do 22:00\n            15pln po 22:00\n\nDrinki \,piwko i napoje na
  barze w atrakcyjnych cenach :)
ATTACH;FMTTYPE=image/jpeg:https://night4u.pl/wp-content/uploads/2019/12/12
 2142_image_79750522_2682393838515886_442161407039897600_o.jpg
CATEGORIES:lubelskie
LOCATION:Kazamata Wschodnia Bastionu I\, Okopowa 2\, Zamosc\, 22-400\, Pola
 nd
GEO:50.71505;23.25464
X-APPLE-STRUCTURED-LOCATION;VALUE=URI;X-ADDRESS=Okopowa 2\, Zamosc\, 22-400
 \, Poland;X-APPLE-RADIUS=100;X-TITLE=Kazamata Wschodnia Bastionu I:geo:50.
 71505,23.25464
END:VEVENT
BEGIN:VTIMEZONE
TZID:Europe/Warsaw
X-LIC-LOCATION:Europe/Warsaw
BEGIN:STANDARD
DTSTART:20191027T020000
TZOFFSETFROM:+0200
TZOFFSETTO:+0100
TZNAME:CET
END:STANDARD
END:VTIMEZONE
END:VCALENDAR