BEGIN:VCALENDAR
VERSION:2.0
PRODID:-//wp-events-plugin.com//7.2.3.1//EN
TZID:Europe/Warsaw
X-WR-TIMEZONE:Europe/Warsaw
BEGIN:VEVENT
UID:47120@night4u.pl
DTSTART;TZID=Europe/Warsaw:20200221T210000
DTEND;TZID=Europe/Warsaw:20200222T040000
DTSTAMP:20200222T001204Z
URL:https://night4u.pl/wydarzenia/8-urodziny-sznapsa/
SUMMARY:8 Urodziny Sznapsa
DESCRIPTION:To już 8 lat od kiedy Sznaps pojawił się na olsztyńskiej st
 arówce. Zatem wypadło by to uczcić \,a nie ma na to chyba lepszego spos
 obu niż zorganizowanie hucznej imprezy . I na taką właśnie imprezę se
 rdecznie Was zapraszamy w piątek 21 lutego. 🎊🎉🍾🥂 \n\nWydarzen
 ie odbędzie się na 2 piętrach w Sznapsie oraz piętro wyżej w klubie D
 o Białego Rana\, który na tę wyjątkową noc zyska specjalny wystrój.\
 n_____________________________________________________\n\nOto aby na urodz
 inowej imprezie nikt ścian nie podpierał zadbają fachowcy prima sort \,
 którzy dobrą zabawę mają we krwi - dj-e Ocimek &amp\; Tabaka.\n\nNie n
 apiszemy \,że będą grać taki lub siaki gatunek muzyczny  bo Oni nie zw
 racają na to uwagi dla nich liczy się Wasza dobra zabawa i na to możeci
 e z cała pewności liczyć podczas naszej urodzinowej imprezy!\n_________
 ____________________________________________\n\nPonadto przygotowaliśmy d
 la Was:\n\n📸 Fotolustro\n🎂 Tort\n🍾 Szampana\n🎁 konkursy z nagr
 odami\n🍹 darmowe drinki dla pierwszych 50 gości \n🍸 specjalne promo
 cje w barze\n\n-----------------------------------------------------------
 -------------------------\nCzy jeszcze kogoś musimy specjalnie przekonywa
 ć \,że  w tę piątkową noc warto świętować razem z nami? 😉\n----
 --------------------------------------------------------------------------
 ------\nWejście na imprezę na górnym piętrze +18 - 10zł \nPrzygotowal
 iśmy poczęstunek dla pierwszych 50 gości
ATTACH;FMTTYPE=image/jpeg:https://night4u.pl/wp-content/uploads/2020/02/15
 7015_image_84677204_2698628313578423_6250191770991198208_o.jpg
CATEGORIES:warmińsko-mazurskie
LOCATION:Sznaps\, Okopowa 15\, Olsztyn\, 10-075\, Poland
GEO:53.775811;20.474226
X-APPLE-STRUCTURED-LOCATION;VALUE=URI;X-ADDRESS=Okopowa 15\, Olsztyn\, 10-0
 75\, Poland;X-APPLE-RADIUS=100;X-TITLE=Sznaps:geo:53.775811,20.474226
END:VEVENT
BEGIN:VTIMEZONE
TZID:Europe/Warsaw
X-LIC-LOCATION:Europe/Warsaw
BEGIN:STANDARD
DTSTART:20191027T020000
TZOFFSETFROM:+0200
TZOFFSETTO:+0100
TZNAME:CET
END:STANDARD
END:VTIMEZONE
END:VCALENDAR