BEGIN:VCALENDAR
VERSION:2.0
PRODID:-//wp-events-plugin.com//7.2.3.1//EN
TZID:Europe/Warsaw
X-WR-TIMEZONE:Europe/Warsaw
BEGIN:VEVENT
UID:42466@night4u.pl
DTSTART;TZID=Europe/Warsaw:20211001T230000
DTEND;TZID=Europe/Warsaw:20211002T050000
DTSTAMP:20210908T144757Z
URL:https://night4u.pl/wydarzenia/8-urodziny-te33no-collective-dave-the-dr
 ummer/
SUMMARY:8 Urodziny Te33no Collective / Dave The Drummer
DESCRIPTION:MAIN STAGE:\n\nDAVE THE DRUMMER (Hydraulix\, Stay Up Forever) L
 ondon\n\nDARK SKYLINE (Darker Sounds\, Ragnarøk) Szczecin\n\nKADAM (Te33n
 o Collective\, Headcut) Wrocław\n\nUKASH (Dark Underground\, Dirty Stuff 
 Rec) Ustka\n\nE.F.G. (Electronic Tree\, Te33no) 3city\n\n\nBOOMER'S STAGE 
 (Fountain)\n\nLARIX (Bswh / Luzztro) Iława\n\nROBO (Acid Orange Crew) 3ci
 ty\n\nBEGU (Domówka Sound System) Słupsk\n\nOMBO (Domówka Sound System)
  Słupsk\n\n\nTe33no Collective zaprasza na swoje VIII urodziny! Jak zazwy
 czaj\, tak i teraz chcielibyśmy wyjątkowo uczcić ten dzień. Postanowil
 iśmy więc ściągnąć do Trójmiasta jednego z twórców sceny Acid tec
 hno\, człowieka legendę. \n18 września w murach Sfinks700 zagra dla Was
  D.A.V.E The Drummer!\n \nHenry Cullen (bo to jego prawdziwe imię) to św
 iatowej klasy DJ i producent który jest autorem ponad setki płyt\, remix
 ów i kompilacji wydanych w tak znakomitych labelach jak Hydraulix\, Apex\
 , Stay Up Forever\, Routemaster\, Naked Lunch\, Smitten\, Havok\, Bionic O
 range\, czy Maximum-Minimum (lista jest o wiele dłuższa). Nasz gość je
 st aktywny na scenie od 1993 roku. Od tamtej pory jego utwory znalazły sw
 oje miejsce w playlistach takich artystów jak Dave Clark\, Carl Cox\, Chr
 is Liberator\, A.Paul. Perc &amp\; Truss\, Lukas\, The Advent\, Christian 
 Varela\, Pet DUO\, Fernanda Martins\, Darmec\, Axel Karakasis\, DJ Murphy\
 , Wehbba\, Joseph Capriati\, Mike Humphries\, Space DJz\, Eric Sneo\, Mark
  EG\, Lenny Dee\, Diarmead O Meara\, Sasha Carassi i wielu wielu innych.\n
 \nZapiszcie sobie tę datę w kalendarzu. Widzimy się!\n\nDATA : 01.10.20
 21\n\nTAX 30  \n      \n\n• Info:\n☞ http://sfinks700.com/\n\n\nS.F.I.
 N.K.S. 700\nAleja Franciszka Mamuszki 1\n81-718 Sopot\n\nWstęp od 21 lat\
 n*z wyłączeniem studentów\n\nPatronat medialny\nNEVER Stop Raving
ATTACH;FMTTYPE=image/jpeg:https://night4u.pl/wp-content/uploads/2021/04/13
 4018_image_144927070_3188682537901283_7275458324568745792_n.jpg
CATEGORIES:pomorskie
LOCATION:Sfinks700\, Mamuszki 1\, Sopot\, 81-718\, Poland
GEO:54.448468;18.567313
X-APPLE-STRUCTURED-LOCATION;VALUE=URI;X-ADDRESS=Mamuszki 1\, Sopot\, 81-718
 \, Poland;X-APPLE-RADIUS=100;X-TITLE=Sfinks700:geo:54.448468,18.567313
END:VEVENT
BEGIN:VTIMEZONE
TZID:Europe/Warsaw
X-LIC-LOCATION:Europe/Warsaw
BEGIN:DAYLIGHT
DTSTART:20210328T030000
TZOFFSETFROM:+0100
TZOFFSETTO:+0200
TZNAME:CEST
END:DAYLIGHT
END:VTIMEZONE
END:VCALENDAR