BEGIN:VCALENDAR
VERSION:2.0
PRODID:-//wp-events-plugin.com//7.2.3.1//EN
TZID:Europe/Warsaw
X-WR-TIMEZONE:Europe/Warsaw
BEGIN:VEVENT
UID:33603@night4u.pl
DTSTART;TZID=Europe/Warsaw:20191109T210000
DTEND;TZID=Europe/Warsaw:20191110T040000
DTSTAMP:20191110T001355Z
URL:https://night4u.pl/wydarzenia/9-11-boosin-sobota-w-yoloclub/
SUMMARY:9.11 Boosin | Sobota w YoloClub!
DESCRIPTION:Michael Boosin\, który komponuje i gra na instrumentach głown
 ie klawiszowych. W maju 2017 roku ukazał się ich debiutancki album \, z 
 którego utwór tytułowy utwór „Sontce” zyskał spory sukces i pierw
 sze miejsca list przebojów w części czołowych stacji radiowych w kraju
 .\n\nWe wrześniu MARUV rozpoczęła współpracę z muzykiem i producente
 m BOOSIN czego efektem były dwa utwory: „Spin” i „Drunk Groove”. 
 Ten drugi zajmuje obecnie pierwsze miejsce na wielu listach przebojów na 
 Ukrainie\, w Rosji\, Europie i Azji!
ATTACH;FMTTYPE=image/jpeg:https://night4u.pl/wp-content/uploads/2019/10/84
 524_image_74614070_1657834854341533_4134736261053153280_o.jpg
CATEGORIES:warmińsko-mazurskie
LOCATION:YOLO CLUB - You Only Live Once\, Odziezowa 12\, Elblag\, 82300\, P
 oland
GEO:54.16452;19.40054
X-APPLE-STRUCTURED-LOCATION;VALUE=URI;X-ADDRESS=Odziezowa 12\, Elblag\, 823
 00\, Poland;X-APPLE-RADIUS=100;X-TITLE=YOLO CLUB - You Only Live Once:geo:
 54.16452,19.40054
END:VEVENT
BEGIN:VTIMEZONE
TZID:Europe/Warsaw
X-LIC-LOCATION:Europe/Warsaw
BEGIN:STANDARD
DTSTART:20191027T020000
TZOFFSETFROM:+0200
TZOFFSETTO:+0100
TZNAME:CET
END:STANDARD
END:VTIMEZONE
END:VCALENDAR