BEGIN:VCALENDAR
VERSION:2.0
PRODID:-//wp-events-plugin.com//7.2.3.1//EN
TZID:Europe/Warsaw
X-WR-TIMEZONE:Europe/Warsaw
BEGIN:VEVENT
UID:35056@night4u.pl
DTSTART;TZID=Europe/Warsaw:20191109T220000
DTEND;TZID=Europe/Warsaw:20191110T050000
DTSTAMP:20191107T091010Z
URL:https://night4u.pl/wydarzenia/9-11-we-want-you-at-kokoo-tonight-rimm-p
 unchline-saw/
SUMMARY:9.11 - We Want You At Kokoo Tonight: Rimm &amp\; Punchline &amp\; S
 aw
DESCRIPTION:9.11 - We Want You At KOKOO Tonight\n\nPoziom 0 | SAW / ŁÓDŹ
  | house music\nPoziom -1 |  RIMM / SOPOT &amp\; PUNCHLINE / WARSZAWA | pa
 rty rocking mashup rnb\n\nStart: 22:00\nWejście: free\nObowiązuje selekc
 ja gości\n\nRezerwacje stolików:\n✆ 690-433-154/\n695-346-655\nlub wia
 domość na FB:\nhttps://www.facebook.com/KlubKokoo
ATTACH;FMTTYPE=image/jpeg:https://night4u.pl/wp-content/uploads/2019/11/92
 179_image_74666178_2570584759643440_5392585818156040192_o.jpg
CATEGORIES:łódzkie
LOCATION:Klub Kokoo | Moniuszki 1 | Łódź\, Stanisława Moniuszki 1\, Ł
 ódź\, 90-101\, Poland
GEO:51.76793;19.45741
X-APPLE-STRUCTURED-LOCATION;VALUE=URI;X-ADDRESS=Stanisława Moniuszki 1\, 
 Łódź\, 90-101\, Poland;X-APPLE-RADIUS=100;X-TITLE=Klub Kokoo | Moniuszk
 i 1 | Łódź:geo:51.76793,19.45741
END:VEVENT
BEGIN:VTIMEZONE
TZID:Europe/Warsaw
X-LIC-LOCATION:Europe/Warsaw
BEGIN:STANDARD
DTSTART:20191027T020000
TZOFFSETFROM:+0200
TZOFFSETTO:+0100
TZNAME:CET
END:STANDARD
END:VTIMEZONE
END:VCALENDAR