BEGIN:VCALENDAR
VERSION:2.0
PRODID:-//wp-events-plugin.com//7.2.3.1//EN
TZID:Europe/Warsaw
X-WR-TIMEZONE:Europe/Warsaw
BEGIN:VEVENT
UID:35498@night4u.pl
DTSTART;TZID=Europe/Warsaw:20191109T210000
DTEND;TZID=Europe/Warsaw:20191110T040000
DTSTAMP:20191109T224311Z
URL:https://night4u.pl/wydarzenia/9-11-wszedzie-dobrze-ale-w-ground-club-n
 ajlepiej/
SUMMARY:9.11 Wszędzie dobrze ale w Ground Club najlepiej!
DESCRIPTION:To prawda stara jak świat! W jakim innym miejscu możesz poczu
 ć się tak dobrze? Ground Club to z pewnością najlepsze takie klubowe m
 iejsce w mieście!\nZe swojej strony możemy zagwarantować najlepszą muz
 ykę\, najsmaczniejsze drinki i doborowe towarzystwo. \nWSTĘP:\n�10 zł
  przez CAŁĄ NOC.\n�REZERWACJE STOLIKÓW: 668-15-22-08\n�DJ: Mordziń
 ski\n� SELEKCJA GOŚCI ( dresy\, czapeczki zostawiamy w domu )
ATTACH;FMTTYPE=image/jpeg:https://night4u.pl/wp-content/uploads/2019/11/93
 404_image_77026891_2512875642111474_867005046380822528_o.jpg
CATEGORIES:lubelskie
LOCATION:Ground Club\, Pl Łuczkowskiego 11\, Chełm\, 22-100\, Poland
GEO:51.13286;23.47388
X-APPLE-STRUCTURED-LOCATION;VALUE=URI;X-ADDRESS=Pl Łuczkowskiego 11\, Che
 łm\, 22-100\, Poland;X-APPLE-RADIUS=100;X-TITLE=Ground Club:geo:51.13286,
 23.47388
END:VEVENT
BEGIN:VTIMEZONE
TZID:Europe/Warsaw
X-LIC-LOCATION:Europe/Warsaw
BEGIN:STANDARD
DTSTART:20191027T020000
TZOFFSETFROM:+0200
TZOFFSETTO:+0100
TZNAME:CET
END:STANDARD
END:VTIMEZONE
END:VCALENDAR