BEGIN:VCALENDAR
VERSION:2.0
PRODID:-//wp-events-plugin.com//7.2.3.1//EN
TZID:Europe/Warsaw
X-WR-TIMEZONE:Europe/Warsaw
BEGIN:VEVENT
UID:9175@night4u.pl
DTSTART;TZID=Europe/Warsaw:20190323T220000
DTEND;TZID=Europe/Warsaw:20190324T060000
DTSTAMP:20190307T230820Z
URL:https://night4u.pl/wydarzenia/90-s-dj-qiu/
SUMMARY:90' S :: DJ Qiu
DESCRIPTION:Lata 90 powracają ! \n\nDzięki klasycznym\, starym i sprawdzo
 nym TURBO hitom ta sobota na długo pozostanie Wam w pamięci ! \n\nMy bar
 dzo dobrze wspominamy tamte czasy dlatego tej nocy wracamy do tego co dobr
 e i sprawdzone! \n\n:: PROMO ::\n--> BAR -50% & Wjazd Free do 23 ! \n\n:: 
 MUSIC ::\nDj Qiu - 90's\n\n-----------------------------------------------
 -------------\nStart: 22 / Selekcja \nWjazd Free do 23 ! \nRezerwacje : 66
 6 13 14 15
ATTACH;FMTTYPE=image/jpeg:https://night4u.pl/wp-content/uploads/2019/03/24
 897_image_53602088_10156025977542327_3618495709063413760_o.jpg
CATEGORIES:opolskie
LOCATION:Aqarium Music Club\, ul. Franciszkańska 1\, Opole\, 45-021\, Pola
 nd
GEO:50.66778;17.92274
X-APPLE-STRUCTURED-LOCATION;VALUE=URI;X-ADDRESS=ul. Franciszkańska 1\, Opo
 le\, 45-021\, Poland;X-APPLE-RADIUS=100;X-TITLE=Aqarium Music Club:geo:50.
 66778,17.92274
END:VEVENT
BEGIN:VTIMEZONE
TZID:Europe/Warsaw
X-LIC-LOCATION:Europe/Warsaw
BEGIN:STANDARD
DTSTART:20181028T020000
TZOFFSETFROM:+0200
TZOFFSETTO:+0100
TZNAME:CET
END:STANDARD
END:VTIMEZONE
END:VCALENDAR