BEGIN:VCALENDAR
VERSION:2.0
PRODID:-//wp-events-plugin.com//7.2.3.1//EN
TZID:Europe/Warsaw
X-WR-TIMEZONE:Europe/Warsaw
BEGIN:VEVENT
UID:15239@night4u.pl
DTSTART;TZID=Europe/Warsaw:20190628T180000
DTEND;TZID=Europe/Warsaw:20190628T235900
DTSTAMP:20190507T203941Z
URL:https://night4u.pl/wydarzenia/90s-superstars-festival-w-energylandia/
SUMMARY:90’s Superstars Festival w Energylandia
DESCRIPTION:Prawdziwa eksplozja muzyczna dla miłośników muzyki lat 90!\n
 \nTakiego wydarzenia nie można przegapić!\nZapraszamy Was w piątek 28 c
 zerwca 2019 roku\, do Energylandii\, na festiwal muzyki lat 90! Jedyne tak
 ie wydarzenie w Polsce! Zobaczycie na żywo prawdziwy „Top” najpopular
 niejszych muzycznych Gwiazd schyłku ubiegłego stulecia. Ulubieńcy tamty
 ch czasów\, „na żywo” zaśpiewają dla Was swoje największe przeboj
 e. Niesamowita scenografia\, ogromna scena i dodatkowe atrakcje sprawią\,
  że przeniesiecie się w czasie i poczujecie magię czasów Waszej młodo
 ści\, a może nawet dzieciństwa.\n\nPrezentujemy Gwiazdy festiwalu 90’
 s Superstars:\nDR. ALBAN | Face Meets Voice Of MILLI VANILLI | FUN FACTORY
  | JENNY BERGGREN from ACE OF BASE | MR. PRESIDENT\n\nW sprzedaży dostęp
 ne są jednodniowe bilety na wybrany festiwal oraz bilety łączone zawier
 ające:\n- dwudniowy bilet wstępu na festiwal\n- jednodniowy bilet wstęp
 u na festiwal + jednodniowy bilet wstępu do Parku Rozrywki Energylandia\;
 \n- dwudniowy bilet wstępu na festiwal + dwudniowy bilet wstępu do Parku
  Rozrywki Energylandia\n\nSprzedaż podzielona zostanie na pięć puli. \n
 Bilety będzie można zakupić również w dniu festiwalu.\nW ofercie dost
 ępna będzie również opcja VIP.\n\nNasz cennik znajdziecie tutaj: https
 ://tiny.pl/tq1hp\n\nFestiwal będzie odbywał się w godzinach od 18:00 do
  24:00\, na specjalnie wydzielonej strefie festiwalowej znajdującej się 
 poza terenem Parku.\n\nWejdźcie na naszą stronę i zapoznajcie się z in
 formacjami!\nhttp://festival.energylandia.pl/90superstars2019/\n\nBilety d
 ostępne są on-line przez naszą stronę: \nhttp://ticket.energylandia.pl
 /80-90  \n\nNajwiększy w Polsce Park Rozrywki ENERGYLANDIA to gwarancja n
 ajlepszej zabawy dla całych rodzin\, gdzie czeka na Was 70 atrakcji\, na 
 czele z unikatowymi na skalę Europy Roller Coastarami\, pokazami oraz wid
 owiskami.
ATTACH;FMTTYPE=image/jpeg:https://night4u.pl/wp-content/uploads/2019/05/37
 660_image_49095485_1637073839728035_7558843017314959360_o.jpg
CATEGORIES:małopolskie
LOCATION:EnergyLandia\, Al. 3 Maja 2\, Zator\, 32-640\, Poland
GEO:49.999447;19.411489
X-APPLE-STRUCTURED-LOCATION;VALUE=URI;X-ADDRESS=Al. 3 Maja 2\, Zator\, 32-6
 40\, Poland;X-APPLE-RADIUS=100;X-TITLE=EnergyLandia:geo:49.999447,19.41148
 9
END:VEVENT
BEGIN:VTIMEZONE
TZID:Europe/Warsaw
X-LIC-LOCATION:Europe/Warsaw
BEGIN:DAYLIGHT
DTSTART:20190331T030000
TZOFFSETFROM:+0100
TZOFFSETTO:+0200
TZNAME:CEST
END:DAYLIGHT
END:VTIMEZONE
END:VCALENDAR