BEGIN:VCALENDAR
VERSION:2.0
PRODID:-//wp-events-plugin.com//7.2.3.1//EN
TZID:Europe/Warsaw
X-WR-TIMEZONE:Europe/Warsaw
BEGIN:VEVENT
UID:46827@night4u.pl
DTSTART;TZID=Europe/Warsaw:20200215T220000
DTEND;TZID=Europe/Warsaw:20200216T060000
DTSTAMP:20200331T145926Z
URL:https://night4u.pl/wydarzenia/a-kto-z-nami-nie-wypije-czyli-wesele-tan
 czy-i-spiewa/
SUMMARY:A kto z nami nie wypije  czyli Wesele Tańczy i śpiewa
DESCRIPTION:Wesele dla Wszystkich !!! \nstart 22:00👌\n22:00-23:00 wjazd 
 1 zł ‼️ plus na wejściu przywitają Was Państwo Młodzi Ksiądz i S
 trażak \npo 23:00 wjazd 15zł\nPrzez całą noc zatańczymy zaśpiewamy z
 aszalejemy razem z wodzirejem :)\n\n❤️wesele dla wszystkich👌\n❤
 ️każdy piątek i sobotę👌\n❤️22:00 do rana👌\n❤️22:00-23:0
 0 wjazd 1 zł ‼️\n❤️bez koperty📩\n❤️bez kwiatów💐\n❤
 ️bez krawatów👔\n❤️Wpraszajcie się👌\nWydarzenie medialnie wsp
 iera  -\nVOX FM\nPartyMap - imprezy\, koncerty\, wydarzenia\nGazeta Wyborc
 za Wrocław\nGazeta Wrocławska\nWieczórpanieńskiwrocław.pl\nWrocław N
 ocą\nTelewizja Wrocław\nFAKTY TVP3 Wrocław\nTVP3 Wrocław
ATTACH;FMTTYPE=image/jpeg:https://night4u.pl/wp-content/uploads/2020/02/15
 4151_image_84679203_596908584375064_416219980665716736_n.jpg
CATEGORIES:dolnośląskie
END:VEVENT
BEGIN:VTIMEZONE
TZID:Europe/Warsaw
X-LIC-LOCATION:Europe/Warsaw
BEGIN:STANDARD
DTSTART:20191027T020000
TZOFFSETFROM:+0200
TZOFFSETTO:+0100
TZNAME:CET
END:STANDARD
END:VTIMEZONE
END:VCALENDAR