BEGIN:VCALENDAR
VERSION:2.0
PRODID:-//wp-events-plugin.com//7.2.3.1//EN
TZID:Europe/Warsaw
X-WR-TIMEZONE:Europe/Warsaw
BEGIN:VEVENT
UID:37124@night4u.pl
DTSTART;TZID=Europe/Warsaw:20200308T180000
DTEND;TZID=Europe/Warsaw:20200308T210000
DTSTAMP:20200331T140454Z
URL:https://night4u.pl/wydarzenia/abba-99-najlepszy-w-europie-abba-tribute
 -show-na-dzien-kobiet/
SUMMARY:ABBA 99 - najlepszy w Europie ABBA Tribute Show na Dzień Kobiet!
DESCRIPTION:ABBA 99 - najlepszy w Europie tribute show zespołu ABBA na Dzi
 eń Kobiet!\n\nW 1982 roku zespół ABBA rozpadł się\, pozostawiając mi
 liony fanów w nieutulonym żalu za wspaniałą muzyką i cudowną atmosfe
 rą na koncertach\nAle Dancing Queen nadal tańczy z ABBA 99 - najlepszym 
 w Europie tribute show kultowego zespołu ABBA !\n8 marca w Dniu Kobiet za
 praszamy do Hali Orbita na niepowtarzalny koncert i wspólną zabawę przy
  nieśmiertelnych przebojach szwedzkiej legendy!\nPanowie! Problem z preze
 ntem na Dzień Kobiet dla wybranek serc rozwiązuje się sam!\nPanie! Podp
 owiedzcie swoim parterom\, jak chciałybyście spędzić wasze święto!\n
 \nLiczne przeboje legendarnego szwedzkiego kultowego zespołu ABBA są ka
 żdemu dobrze znane. Z piosenkami takimi jak „Waterloo”\, „Chiquitit
 a”\, „Dancing Queen”\, „SOS”\, \nAgnetha\, Annifrid\, Benny i Bj
 örn podbili listy przebojów na całym świecie. \nLiczne nagrody i wyró
 żnienia oraz dziesiątki złotych i platynowych płyt sprawiły\, że kar
 iera ABBA była modelowa. W 1982 roku grupa niestety rozpadła się. \nDek
 adę później\, odradzający się zespół ABBA 99 z Niemiec postawił so
 bie za cel\, ponowne przypomnienie na żywo na scenie\, przed publicznośc
 ią tego niezapomnianego klimatu lat 70. i tych cudownych ponadczasowych h
 itów zespołu ABBA. \nButy na platformie\, rozkloszowane spodnie i błysz
 czące ubrania znów są absolutnie w modzie!  Zespół idealnie wyraża b
 eztroskie podejście do życia tamtej dekady. \nZ pewnością możemy o ni
 ch powiedzieć\, że lubią koncertować\, bo widać ich radość ze wspó
 lnego grania na scenie i rewelacyjny kontakt z publicznością. Z muzyczn
 ą perfekcją i porywającą energią ABBA 99 gra wspaniałe piosenki ABBA
  na żywo\, a publiczność pozwala sobie na to\, by dać się ponieść t
 emu entuzjazmowi. \n\nDołącz do nas 8 marca \, śpiewaj i tańcz razem z
  nami!\nThe Dancing Quenn has never ended!   \n\n\n8.03.20 godz.18.00 hala
  Orbita\, ul. Wejherowska 34\nDzień Kobiet 2020\nABBA 99 - The best ABBA 
 Tribute Show in Europe\nmiejsca siedzące (golden circle - płyta): 120 z
 ł - do 8.02.20\, 135 zł –  przedsprzedaż\, 150 zł - w dniu koncertu\
 nmiejsca siedzące (trybuny) : 80 zł - do 8.02.20\, 90 zł –  przedsprz
 edaż\, 100 zł - w dniu koncertu\nmiejsca stojące/tańczące (płyta): 6
 0 zł - do 8.02.20\, 70 zł –  przedsprzedaż\, 80 zł - w dniu koncertu
 \n\nBilety dostępne w serwisach: www.wrockfest.pl/bilety-online/\, www.bi
 letin.pl\, www.biletyna.pl\, www.eventim.pl\, www.ebilet.pl\, www.kupbilec
 ik.pl\, goingapp.pl\nrezerwacje: bilety@o2.pl
ATTACH;FMTTYPE=image/jpeg:https://night4u.pl/wp-content/uploads/2019/11/10
 2372_image_74348156_2530718327043287_6809316514869542912_o.jpg
CATEGORIES:dolnośląskie
LOCATION:Hala „Orbita”\, Wroclaw\, Poland
GEO:51.132248;16.987466
X-APPLE-STRUCTURED-LOCATION;VALUE=URI;X-ADDRESS=Wroclaw\, Poland;X-APPLE-RA
 DIUS=100;X-TITLE=Hala „Orbita”:geo:51.132248,16.987466
END:VEVENT
BEGIN:VTIMEZONE
TZID:Europe/Warsaw
X-LIC-LOCATION:Europe/Warsaw
BEGIN:STANDARD
DTSTART:20191027T020000
TZOFFSETFROM:+0200
TZOFFSETTO:+0100
TZNAME:CET
END:STANDARD
END:VTIMEZONE
END:VCALENDAR