BEGIN:VCALENDAR
VERSION:2.0
PRODID:-//wp-events-plugin.com//7.2.3.1//EN
TZID:Europe/Warsaw
X-WR-TIMEZONE:Europe/Warsaw
BEGIN:VEVENT
UID:46647@night4u.pl
DTSTART;TZID=Europe/Warsaw:20200309T190000
DTEND;TZID=Europe/Warsaw:20200309T210000
DTSTAMP:20200309T110310Z
URL:https://night4u.pl/wydarzenia/abelard-giza-gdansk-program-piniata-vii-
 termin/
SUMMARY:Abelard Giza / Gdańsk / program "Piniata" - VII termin
DESCRIPTION:VII Termin - UWAGA - 9 MARCA\n\nAbelard Giza\nUrodzony w 1980 r
 . w Gdańsku. Stand-uper\, scenarzysta\, autor tekstów komediowych. Lider
  Kabaretu Limo (1999-2014) z którym zdobył liczne nagrody i popularnoś
 ć. Twórca programów stand-upowych "Proteus Vulgaris"\, "Ludzie\, trzyma
 jcie kapelusze"\, "Numer 3" oraz serialu "Kryzys".  Aktualnie jeździ z pr
 ogramem "Piniata".\n\n+ support - Mateusz Petryka oraz Śliwa\n\nBILETY: 6
 0 PLN    -  http://kbq.pl/49010\n\n* 18+ Występ tylko dla widzów pełnol
 etnich \n* Nagrywanie występu w formie audio i wideo jest zabronione\n* O
 soby nietrzeźwe i przeszkadzające będą wypraszane bez możliwości ubi
 egania się zwrotu za bilet.\n*Handel biletami w celu zysku jest przestęp
 stwem (Art. 133 kw)
ATTACH;FMTTYPE=image/jpeg:https://night4u.pl/wp-content/uploads/2020/02/15
 3335_image_82838903_2667641453304999_7574706101065613312_o.jpg
CATEGORIES:pomorskie
LOCATION:B90\, Elektryków\, Gdansk\, 80-863\, Poland
GEO:54.36461;18.648686
X-APPLE-STRUCTURED-LOCATION;VALUE=URI;X-ADDRESS=Elektryków\, Gdansk\, 80-8
 63\, Poland;X-APPLE-RADIUS=100;X-TITLE=B90:geo:54.36461,18.648686
END:VEVENT
BEGIN:VTIMEZONE
TZID:Europe/Warsaw
X-LIC-LOCATION:Europe/Warsaw
BEGIN:STANDARD
DTSTART:20191027T020000
TZOFFSETFROM:+0200
TZOFFSETTO:+0100
TZNAME:CET
END:STANDARD
END:VTIMEZONE
END:VCALENDAR