BEGIN:VCALENDAR
VERSION:2.0
PRODID:-//wp-events-plugin.com//7.2.3.1//EN
TZID:Europe/Warsaw
X-WR-TIMEZONE:Europe/Warsaw
BEGIN:VEVENT
UID:19970@night4u.pl
DTSTART;TZID=Europe/Warsaw:20190720T223000
DTEND;TZID=Europe/Warsaw:20190721T050000
DTSTAMP:20190621T201243Z
URL:https://night4u.pl/wydarzenia/abordaz-letni-cykl-imprezowy-na-15-pietr
 ze/
SUMMARY:Abordaż! – letni cykl imprezowy na 15. piętrze!
DESCRIPTION:Instytut meteorologii ostrzega: wysoka fala nadchodzi. Bałtyk 
 zaleje Poznań wzburzonymi falami muzyki elektronicznej. W każdą sobotę
  wakacji rusza wyjątkowy rejs\, aż po miejski horyzont. Wakacyjny kompas
  imprezowy wskaże Wam drogę do wyjątkowego rooftopu. \n\nZaczynamy ABOR
 DAŻ - w "MUS Na Lato" rusza cykl imprez pod tą banderą!\n\nOd 29 czerwc
 a\, w każdą sobotę zapraszamy wszystkich pasjonatów szalonych imprez p
 rzy dźwiękach elektroniki na 15 piętro Bałtyku. Tylko u nas zachwyci W
 as pełna panorama miasta i wschód słońca widziany z najwyższego dost
 ępnego w Poznaniu tarasu widokowego. \n\nNa ABORDAŻ zaprosiliśmy ulubio
 nych poznańskich djów oraz artystów z innych miast. Z naszymi muzycznym
 i bosmanami będziecie mogli bawić się na dużym parkiecie oraz na mniej
 szej sali na odkrytym tarasie! Każdy klubowy pirat z pewnością doceni z
 alety naszego rooftopu - widok na Poznań z każdej strony oraz - dla doś
 wiadczonych wilków morskich - możliwość obejrzenia wschodu słońca z 
 najwyższego tarasu widokowego w naszym mieście. \n\nImprezowy MUS Na Lat
 o zaskoczy Was też zupełnie innym wystrojem. Na Bałtyku obowiązują ty
 lko akcenty marynistyczne! Postaraliśmy się\, by scenografia pozwoliła 
 Wam totalnie odpłynąć. Liczymy na to\, że żadne koło ratunkowe nie b
 ędzie nikomu potrzebne. \n\nGwarantujemy\, że na naszym statku każdy wi
 lk morski znajdzie coś dla siebie\, nieważne czy jesteś syreną\, rusa
 łką\, piratem\, bosmanem czy sternikiem. Nasze sobotnie spotkania to roz
 rywka na 10 w skali Beauforta. Jeśli dobra zabawa jest dla Was taka samo 
 ważna\, jak koło sterowe  na statku\, Wasz kompas powinien w wakacje obr
 ać kurs na MUS Na Lato!\n\n Inauguracja już 29 czerwca\, a pierwszą imp
 rezą będzie „Neevald Namesday party”.  Szczegółowe info już za ch
 wilę!\n\nAbordaż - letni cykl imprezowy\nWszyscy na pokład! \n\n\nRezer
 wacja miejsc: 663 786 547
ATTACH;FMTTYPE=image/jpeg:https://night4u.pl/wp-content/uploads/2019/06/48
 058_image_65027133_10157492303337940_7986468279340236800_o.jpg
CATEGORIES:wielkopolskie
LOCATION:Bałtyk\, Poznań\, Ul. Franklina Roosevelta 22\, Poznan\, 60-813\
 , Poland
GEO:52.407174;16.911292
X-APPLE-STRUCTURED-LOCATION;VALUE=URI;X-ADDRESS=Ul. Franklina Roosevelta 22
 \, Poznan\, 60-813\, Poland;X-APPLE-RADIUS=100;X-TITLE=Bałtyk\, Poznań:g
 eo:52.407174,16.911292
END:VEVENT
BEGIN:VTIMEZONE
TZID:Europe/Warsaw
X-LIC-LOCATION:Europe/Warsaw
BEGIN:DAYLIGHT
DTSTART:20190331T030000
TZOFFSETFROM:+0100
TZOFFSETTO:+0200
TZNAME:CEST
END:DAYLIGHT
END:VTIMEZONE
END:VCALENDAR