BEGIN:VCALENDAR
VERSION:2.0
PRODID:-//wp-events-plugin.com//7.2.3.1//EN
TZID:Europe/Warsaw
X-WR-TIMEZONE:Europe/Warsaw
BEGIN:VEVENT
UID:20046@night4u.pl
DTSTART;TZID=Europe/Warsaw:20190629T223000
DTEND;TZID=Europe/Warsaw:20190630T050000
DTSTAMP:20190625T183551Z
URL:https://night4u.pl/wydarzenia/abordaz-opening-party-x-neevald-namesday
 /
SUMMARY:Abordaż! Opening Party x neeVald Namesday
DESCRIPTION:Instytut meteorologii ostrzega: wysoka fala nadchodzi. Bałtyk 
 zaleje Poznań wzburzonymi falami muzyki elektronicznej! W każdą sobotę
  wakacji rusza wyjątkowy rejs\, aż po miejski horyzont. Wakacyjny kompas
  imprezowy wskaże Wam drogę do wyjątkowego rooftopu. \n\nZaczynamy Abor
 daż - w MUS Na Lato rusza cykl imprez pod tą banderą. Od 29 czerwca\, w
  każdą sobotę zapraszamy wszystkich pasjonatów szalonych imprez przy d
 źwiękach elektroniki na 15 piętro Bałtyku. Tylko u nas zachwyci Was pe
 łna panorama miasta i wschód słońca widziany z najwyższego dostępneg
 o w Poznaniu tarasu widokowego. \n\nPierwszy rejs pod egidą neeValda i co
 rocznym (to już tradycja!) „Neevald Namesday”. Siedmiu djów\, dwie d
 jki i saksofonista. Sztorm murowany! \;)\n\nGwarantujemy\, że u nas każd
 y wilk morski znajdzie coś dla siebie\, nieważne czy jesteś syreną\, r
 usałką\, piratem\, bosmanem czy sternikiem. ABORDAŻ to rozrywka na 10 w
  skali Beauforta!\n\nDołącz do nas ☛ Abordaż - letni cykl imprezowy\n
 \n✯ ✯ ✯\n29.06 (sobota)\n\nABORDAŻ Opening party - Neevald Namesday
 !\n\nBanan on SAX\nMia Twin\nMalvee\nGigi\nChriss Jaxx\nMatush\nPequeno\nK
 ulterman\nNeevald\n\nStart: 22:30\n\nBilety: 20 zł do 23:30 / 25 zł po 2
 3:30 \n[dziewczyny wstęp FREE do 23:00] \n\n✯✯✯\n\n\n\nABORDAŻ –
  nowy cykl imprez z muzyką elektroniczną\, na które zaprosiliśmy ulubi
 onych poznańskich djów oraz artystów z innych miast. Z naszymi muzyczny
 mi bosmanami będziecie mogli bawić się na dużym parkiecie oraz na mnie
 jszej sali na odkrytym tarasie! Każdy klubowy pirat z pewnością doceni 
 zalety naszego rooftopu - widok na Poznań z każdej strony oraz - dla do
 świadczonych wilków morskich - możliwość obejrzenia wschodu słońca 
 z najwyższego tarasu widokowego w naszym mieście. \n\nImprezowy MUS Na L
 ato zaskoczy Was też zupełnie innym wystrojem. Na Bałtyku obowiązują 
 tylko akcenty marynistyczne! Postaraliśmy się\, by scenografia pozwolił
 a Wam totalnie odpłynąć. Liczymy na to\, że żadne koło ratunkowe nie
  będzie nikomu potrzebne. \n\nAbordaż - wszyscy na pokład!
ATTACH;FMTTYPE=image/jpeg:https://night4u.pl/wp-content/uploads/2019/06/48
 219_image_65226629_10157507399282940_3908781579253579776_o.jpg
CATEGORIES:wielkopolskie
LOCATION:Bałtyk\, Poznań\, Ul. Franklina Roosevelta 22\, Poznan\, 60-813\
 , Poland
GEO:52.407174;16.911292
X-APPLE-STRUCTURED-LOCATION;VALUE=URI;X-ADDRESS=Ul. Franklina Roosevelta 22
 \, Poznan\, 60-813\, Poland;X-APPLE-RADIUS=100;X-TITLE=Bałtyk\, Poznań:g
 eo:52.407174,16.911292
END:VEVENT
BEGIN:VTIMEZONE
TZID:Europe/Warsaw
X-LIC-LOCATION:Europe/Warsaw
BEGIN:DAYLIGHT
DTSTART:20190331T030000
TZOFFSETFROM:+0100
TZOFFSETTO:+0200
TZNAME:CEST
END:DAYLIGHT
END:VTIMEZONE
END:VCALENDAR