BEGIN:VCALENDAR
VERSION:2.0
PRODID:-//wp-events-plugin.com//7.2.3.1//EN
TZID:Europe/Warsaw
X-WR-TIMEZONE:Europe/Warsaw
BEGIN:VEVENT
UID:33602@night4u.pl
DTSTART;TZID=Europe/Warsaw:20191026T220000
DTEND;TZID=Europe/Warsaw:20191027T050000
DTSTAMP:20241220T201910Z
URL:https://night4u.pl/wydarzenia/abordaz-w-zastepstwie-teorii-chaosu-with
 -abu-zeinah/
SUMMARY:Abordaż / w zastępstwie Teorii Chaosu with Abu Zeinah
DESCRIPTION:/ wydarzenie  w zastępstwie Teorii Chaosu with Abu Zeinah /\n\
 nW związku z komplikacjami technicznymi oficjalne wydarzenie Teorii Chaos
 u zostało przeniesione na późniejszy termin\,  jednak licząc na wasze 
 eksplozyjne nastawienie i niepohamowaną chęć tańca wykorzystamy ten cz
 as najlepiej jak tylko możliwe.\n\nTeoria Chaosu i przyjaciele zapraszaj
 ą:\n\nZagrają kolejno: \nClicktime\nJacekQl\nJaszczur\nMeszkov\nAtis\n\n
 Wejscie 10pln\nstart 22 00\n26 10 2019
ATTACH;FMTTYPE=image/jpeg:https://night4u.pl/wp-content/uploads/2019/10/84
 511_image_72659517_2747742048622293_1114704692333510656_o.jpg
CATEGORIES:warmińsko-mazurskie
LOCATION:Pijana Czapla\, ul. Górna 1\, Olsztyn\, Poland
GEO:53.774327;20.474031
X-APPLE-STRUCTURED-LOCATION;VALUE=URI;X-ADDRESS=ul. Górna 1\, Olsztyn\, Po
 land;X-APPLE-RADIUS=100;X-TITLE=Pijana Czapla:geo:53.774327,20.474031
END:VEVENT
BEGIN:VTIMEZONE
TZID:Europe/Warsaw
X-LIC-LOCATION:Europe/Warsaw
BEGIN:DAYLIGHT
DTSTART:20190331T030000
TZOFFSETFROM:+0100
TZOFFSETTO:+0200
TZNAME:CEST
END:DAYLIGHT
BEGIN:STANDARD
DTSTART:20191027T020000
TZOFFSETFROM:+0200
TZOFFSETTO:+0100
TZNAME:CET
END:STANDARD
END:VTIMEZONE
END:VCALENDAR