BEGIN:VCALENDAR
VERSION:2.0
PRODID:-//wp-events-plugin.com//7.2.3.1//EN
TZID:Europe/Warsaw
X-WR-TIMEZONE:Europe/Warsaw
BEGIN:VEVENT
UID:16929@night4u.pl
DTSTART;TZID=Europe/Warsaw:20191023T183000
DTEND;TZID=Europe/Warsaw:20191023T230000
DTSTAMP:20191108T004146Z
URL:https://night4u.pl/wydarzenia/aborted-entombed-a-d-baest-23-10-proxima
 -warszawa/
SUMMARY:Aborted + Entombed A.D\, Baest / 23.10 / Proxima\, Warszawa
DESCRIPTION:Trasa Hell Over Europe wraca do Europy! Będzie to już trzecia
  osłona\, w której udział wezmą Aborted\, Entombed A.D. (co-headline) 
 oraz BAEST! Jedyny koncert w Polsce odbędzie się 23 października w wars
 zawskim klubie Proxima! \n\nAborted + Entombed A.D.\nSupport: BAEST\n23.10
 .2019 g. 19:00\nWarszawa / Proxima\n\nCZASÓWKA:\n18:30 - DRZWI\n19:00 - B
 AEST\n20:10 - Aborted\n21:40 - Entombed A.D.\n\n75 - \n80 - https://www.bi
 letomat.pl/metal/aborted-entombed-ad-baest-warszawa-8130/\, https://www.eb
 ilet.pl/muzyka/hard-heavy/aborted/\, eventim.pl\, ticketmaster.pl\, ticket
 os.pl\, Media Markt\, Empik\n90 - w dniu koncertu\n\n⚠️Szanowni Państ
 wo. Prosimy o kupowanie biletów wyłącznie w autoryzowanych punktach spr
 zedaży. Poprzez kupno wejściówek od osób trzecich możecie zostać Pa
 ństwo oszukani.⚠️\n\n❌ Wstęp na koncert 16+ za pisemną zgodą rod
 zica. Poniżej 16 lat\, wymagana obecność pełnoletniego opiekuna. Wzór
  zgody: https://goo.gl/eEHkA5\n\n🌿W trosce o środowisko zachęcamy Was
  do pokazywania biletów na telefonie zamiast ich drukowania. \n\n➡️AB
 ORTED (Century Media Records/Belgia) - death metal\n\nPotomków doczekali 
 się giganci z Carcass\, Napalm Death czy Autopsy. Aborted to ich najbardz
 iej udane dziecko! Zawodowe deathmealowe młócenie na najwyższym świato
 wym poziomie\, służy tej\, dziś już międzynarodowej\, ekipie do wygro
 wlowywania treści niczym z najlepszych filmowych produkcji spod znaku gor
 e. Jedyną osobą w składzie\, pamiętającą początki z 1995 roku\, jes
 t wokalista Sven de Caluwé. Oprócz niego kwintet tworzą zaprawieni w bo
 jach zawodnicy\, którzy przewinęli się przez większość klubowych sce
 n Europy oraz przez takie kapele jak Atrocity\, God Dethroned\, System Div
 ide\, czy Prostitute Disfigurement. Aborted wiosną 2014 roku wypuścił n
 a rynek kolejne "obrzydliwe" monstrum\, album o wdzięcznym tytule "The Ne
 crotic Manifesto”\, a ich przedostatni album „Retrogore” (2016) wyrz
 ucił z papci niejednego twardego zawodnika! Ostatni premierowy koncert 
 „Terrorvision” w Poznaniu fani zapamiętają na długo! Tym razem Abor
 ted przyjedzie do Polski razem z Entomed A.D. oraz Baest\, aby zasiać spu
 stoszenie w Warszawie!\n\n🌐 https://www.facebook.com/Abortedofficial/\n
 \n🔈„Vesperine Decay” - https://www.youtube.com/watch?v=i6h1GPZi-g8\
 n🔈„Deep Red” - https://www.youtube.com/watch?v=ak4oeZwBfJs\n🔈„
 Divine Impediment” - https://www.youtube.com/watch?v=vCGOyvfzd-U\n🔈
 „Termination Redux” - https://www.youtube.com/watch?v=p10lUL6CxBQ\n
 🔈„The Extirpation Agenda” - https://www.youtube.com/watch?v=UFQwMxV
 IwWM\n\n➡️ENTOMBED A.D. (Century Media Records/Szwecja) - death metal\
 n\nEntombed A.D. powstało w 2014 roku po rozłamie w składzie deathmetal
 owej grupy Entombed. Pod nową nazwą postanowili działać wokalista Lars
  Göran Petrov\, perkusista Olle Dahlstedt\, gitarzysta Nico Elgstrand ora
 z odpowiadający za gitarę basową Victor Brandt - muzycy ostatniego wcie
 lenia Entombed. Kwartet z przyczyn prawnych musiał zmodyfikować nazwę. 
 Formacja Entombed A.D. "zadebiutowała" siedem lat po płycie Entombed "Se
 rpent Saints"\, w 2014 roku. Album "Back To The Front" powstał w studiu "
 Bohus" (ABBA\, Europe) pod okiem producenta Roberto Laghi. Okładka zosta
 ła stworzona przez Zbigniewa Bielaka. Styl "nowej" formacji niewiele odbi
 egał od tego\, prezentowanego na "Serpent Saints" przez Entombed co zwró
 ciło uwagę recenzentów. Na początku 2016 roku Szwedzi podali szczegó
 ły drugiej płyty: wydawnictwo zatytułowane "Dead Dawn" trafiło na pó
 łki sklepowe 26 lutego 2016 roku\, jego produkcją zajęli się Tom Van H
 eesch i Jacob Hellner ze sztokholmskiego studia Big Island Sound oraz Nico
  Elgstrand\, który odpowiadał za większość nagrań\, mastering zaś w
 ykonał Svante Forsback ze studia Chartmakers. Ostatnio Entombed A.D. zapo
 wiedzieli nowy album\, który ukaże się 30 sierpnia i to właśnie jego 
 będą promować podczas trasy Hell Over Europe III. \n\n🌐 https://www.
 facebook.com/EntombedAD/\n🌐 https://www.entombedad.com/\n\n🔈„The W
 inner Has Lost” - https://www.youtube.com/watch?v=2WBZDnQEmF8\n🔈„De
 ad Dawn” - https://www.youtube.com/watch?v=xSJCZ9sfrSw\n🔈„Back To T
 he Front” - https://www.youtube.com/watch?v=N8kweEggbsQ\n\n➡️BAEST (
 Century Media Records\, Dania) - death metal\n\nBaest to duńska grupa dea
 th metalowa\, która w 2018 wydała swój debiut „Danse Macabre” nakł
 adem Century Media Records. Zespół zaprezentował się polskim fanom na 
 trasie z Decapitated wiosną tego roku! \n\n🌐 https://www.facebook.com/
 baestband/\n🌐 https://www.baestband.com/\n\n🔈"Crosswhore" https://ww
 w.youtube.com/watch?v=9qquMbcxc4o\n🔈"Ego Te Absolvo" https://www.youtub
 e.com/watch?v=Lx-QUfKtAY0\n🔈"Vortex" https://www.youtube.com/watch?v=YF
 XLO0R3exs
ATTACH;FMTTYPE=image/jpeg:https://night4u.pl/wp-content/uploads/2019/10/41
 459_image_62070031_2276857302402700_1759212024551702528_o-6.jpg
CATEGORIES:mazowieckie
LOCATION:Klub Proxima\, ul. Żwirki i Wigury 99a\, Warsaw\, 02-089\, Poland
GEO:52.212586;20.98704
X-APPLE-STRUCTURED-LOCATION;VALUE=URI;X-ADDRESS=ul. Żwirki i Wigury 99a\, 
 Warsaw\, 02-089\, Poland;X-APPLE-RADIUS=100;X-TITLE=Klub Proxima:geo:52.21
 2586,20.98704
END:VEVENT
BEGIN:VTIMEZONE
TZID:Europe/Warsaw
X-LIC-LOCATION:Europe/Warsaw
BEGIN:DAYLIGHT
DTSTART:20190331T030000
TZOFFSETFROM:+0100
TZOFFSETTO:+0200
TZNAME:CEST
END:DAYLIGHT
END:VTIMEZONE
END:VCALENDAR