BEGIN:VCALENDAR
VERSION:2.0
PRODID:-//wp-events-plugin.com//7.2.3.1//EN
TZID:Europe/Warsaw
X-WR-TIMEZONE:Europe/Warsaw
BEGIN:VEVENT
UID:26878@night4u.pl
DTSTART;TZID=Europe/Warsaw:20190914T220000
DTEND;TZID=Europe/Warsaw:20190915T050000
DTSTAMP:20190907T180049Z
URL:https://night4u.pl/wydarzenia/absolut-lime-frenchy-vocal-live/
SUMMARY:Absolut Lime! | Frenchy vocal live!
DESCRIPTION:Piękny rozdział w historii naszego klubu! Niech ta impreza pr
 zeniesie Was w świat Absolut LIME.\nPoczuj smak prawdziwej limonki! Celeb
 ruj z nami tą wyjątkową noc! Nie bez powodu Absolut Lime był głównym
  partnerem najpiękniejszego festiwalu świata Coachelli ♥ \n\nZagrają:
 \nDJ ROMI\nFrenchy vocal live act\nMoment.\n\n\n\nStart: 22.00\nwstęp:20 
 pln\nkarty klubowe wejście FREE\,\nlista FB* do 23.00 wejście FREE \nwst
 ęp od 21 lat\nselekcja\npokolenie 30+ wstęp macie za free - szanujemy do
 świadczenie imprezowe\, tak więc pokażcie jak to się robi - zapraszamy
 !\n\n*wejście do klubu na listę fb jest jednorazowe w ciągu danej impre
 zy\, ponowny wstęp wiąże się z opłatą za wejście\, listę zamykamy 
 o 21\n\n\nZAPRASZAMY!\n---------------------------------------------------
 -----\n\nENTRY\nTickets \nClub cards / free entry all night\nwe offer free
  entrance for guests 30+ yo\nFacebook list - one-time free entrance from 1
 0 pm to 11 pm (we close the list at 9 pm\, so don’t forget to join the f
 b event before!)\nYou must be 21 years old to get in\n**selection - our cl
 ub reserves the right to deny entry at selector discretion.\n\nFOR TABLE R
 ESERVATIONS PLEASE RSVP AT :\nOliwia 504 989 948\nhttp://bit.ly/1NsNghc\n\
 nStart: 10 pm
ATTACH;FMTTYPE=image/jpeg:https://night4u.pl/wp-content/uploads/2019/09/62
 659_image_69628139_2977432382273835_648861686026993664_n.jpg
CATEGORIES:wielkopolskie
LOCATION:Klub Czekolada Poznań\, Poznan\, Poland
GEO:52.40609;16.93264
X-APPLE-STRUCTURED-LOCATION;VALUE=URI;X-ADDRESS=Poznan\, Poland;X-APPLE-RAD
 IUS=100;X-TITLE=Klub Czekolada Poznań:geo:52.40609,16.93264
END:VEVENT
BEGIN:VTIMEZONE
TZID:Europe/Warsaw
X-LIC-LOCATION:Europe/Warsaw
BEGIN:DAYLIGHT
DTSTART:20190331T030000
TZOFFSETFROM:+0100
TZOFFSETTO:+0200
TZNAME:CEST
END:DAYLIGHT
END:VTIMEZONE
END:VCALENDAR