BEGIN:VCALENDAR
VERSION:2.0
PRODID:-//wp-events-plugin.com//7.2.3.1//EN
TZID:Europe/Warsaw
X-WR-TIMEZONE:Europe/Warsaw
BEGIN:VEVENT
UID:10373@night4u.pl
DTSTART;TZID=Europe/Warsaw:20190322T230000
DTEND;TZID=Europe/Warsaw:20190323T070000
DTSTAMP:20190317T005659Z
URL:https://night4u.pl/wydarzenia/acidtropicalia-b-day-party-w-tsvi-nervou
 s-horizon-uk/
SUMMARY:Acidtropicália B-Day Party w/ TSVI (Nervous Horizon/UK)
DESCRIPTION:THIS IS GONNA BLOW YOUR MINDS \n[ENGLISH VERSION BELOW]\n\nDok
 ładnie w marcu mija druga rocznica\, od kiedy w nieistniejącym klubie Uf
 f zaczęliśmy organizować cykl imprez\, promujący artystów i brzmienia
 \, które rzadko (lub wcale) można było usłyszeć w naszym mieście. Ok
 rągła rocznica to doskonały pretekst aby POTĘŻNĄ IMPREZĄ uświetni
 ć 2 lata naszej działalności. Z tej okazji postanowiliśmy sięgnąć p
 o BROŃ OSTATECZNĄ zapraszając wyjątkowego gościa. \n\nŚwieżo po teg
 orocznych występach na berlińskim CTM Festival oraz specjalnej edycji (B
 ass & Percs Special) Boiler Room za deckami w dużej klubowej przestrzeni 
 D.K Luksus zagra TSVI - współtwórca londyńskiej wytwórni Nervous Hori
 zon oraz najgorętszy obecnie hard drumowy zawodnik w skali globu. Oprócz
  TSVI wystąpi Acidtropicaliowa guerilla w najmocniejszym składzie oraz p
 rzyjacielski support w postaci: Young Majli\, Plal oraz Czopa Czupsa. Wisi
 enką na torcie stanowić będą wizualizacje stworzone przez artystkę wi
 zualną i dźwiękową - Sylwię Słowik. \n\n▄︻̷̿┻̿═━一 \n\
 nTSVI - to przykład artysty\, który idealnie wpisuje się w propagowane 
 przez nas muzyczne idee\, znany z energetycznej mieszanki hard drumu\, UK 
 funky\, Tarraxo i innych rytmicznych brzmień. Twórca mający na koncie k
 ilka świetnych wydawnictw i bootlegów\, spośród których chyba najciek
 awszym jest zeszłoroczny longplay “Inner Worlds” wydany przez Nervous
  Horizon. Dorastając w rodzinie praktykującej hinduizm oraz dzięki swoj
 emu partnerowi TSVI zainspirował się bliskowschodnią muzyką i ideologi
 ą sufi. Jego produkcje stopniowo przejmowały elementy muzyki do tańca b
 rzucha wraz z wpływami dancehallu i trance. Zainspirowany transcendentaln
 ymi praktykami sufickimi\, “Inner Worlds” to introspektywna podróż p
 oprzez medytację i samopoznanie. Resident Advisor napisał w kontekście 
 najnowszego albumu TSVI o „niszczących kluby ścieżkach perkusyjnych\,
  zaostrzonych niczym damasceńska stal”.\n\n▄︻̷̿┻̿═━一\n\n
 LINEUP:\n\n● A_TROPIC (b-day dj set) | (Acidtropicália)\n● CZOPA CZUP
 S | (Jedząca wiara)\n● IWANN | (Acidtropicália / Popperboys)\n● PLAL
  | (regime)\n● PRINCESS ERROR | (Acidtropicália)\n● SOLID MOODS | (Ac
 idtropicália)\n● TRANS TIMMERMANS | (Acidtropicália / Popperboys)\n●
  TSVI | (Nervous Horizon)\n● YOUNG MAJLI | (regime)\n\nGRAPHIC BY: Princ
 ess Error\nVISUALS BY: PFF\nTAX: 20/25\n\nSUPPORT: Konkret\, Radio LUZ\n\n
 \n(▀̿Ĺ̯▀̿ ̿)\n\nIn the middle of the March we will be celebrating
  a round anniversary\, since we started organizing an events under the Aci
 dtropicalia name (in the non-existent nowadays UFF club) and promoting art
 ists and sounds that could rarely (or not at all) be heard in our city. Th
 e round anniversary is a perfect occasion to celebrate 2 years of our acti
 vity in music events. On this occasion we decided to reach for FINAL WEAPO
 N by inviting an exceptional guest. \n\nFreshly after this year's performa
 nces at Berlin CTM and a special edition (Bass & Percs Special) of Boiler 
 Room behind decks in the large club space of DK Luksus will play TSVI - co
 -founder of the London label Nervous Horizon and the hottest hard drum pla
 yer (on a global scale). This night apart from TSVI you will heard an Acid
 tropicalia's guerilla with the strongest line-up and friendly support by: 
 Young Majli\, Plal and Czopa Czups. The cherry on the cake will be visuali
 zations created by the visual and sound artist Sylwia Słowik. \n\nTSVI is
  an example of an artist who perfectly fits into the musical ideas we prop
 agate. Known for his energetic mix of hard drum\, UK funky\, tarraxo and o
 ther rhythmic sounds. Creator with several great releases and bootleges\, 
 the most interesting of which is last year's longplay "Inner Worlds" relea
 sed by Nervous Horizon. Growing up in a family practicing Hinduism\, TSVI 
 was also exposed to Middle Eastern music and Sufi ideologies via his partn
 er. His productions gradually took on elements of bellydance music\, in ad
 dition to influences from dancehall and trance. Influenced by transcendent
 al Sufi practices\, “Inner Worlds” is an introspective journey through
  meditation and self-discovery. Resident Advisor wrote in the context of h
 is latest album TSVI about "club-destroying percussion tracks\, sharpened 
 like damask steel".\n\nFOLLOW OUR EVENT FOR MORE INFO
ATTACH;FMTTYPE=image/jpeg:https://night4u.pl/wp-content/uploads/2019/03/27
 373_image_52800538_2283000308623041_5088762073609928704_n.jpg
CATEGORIES:dolnośląskie
LOCATION:D.K. Luksus\, Wita Stwosza 16\, Wroclaw\, 50-148\, Poland
GEO:51.10958;17.03678
X-APPLE-STRUCTURED-LOCATION;VALUE=URI;X-ADDRESS=Wita Stwosza 16\, Wroclaw\,
  50-148\, Poland;X-APPLE-RADIUS=100;X-TITLE=D.K. Luksus:geo:51.10958,17.03
 678
END:VEVENT
BEGIN:VTIMEZONE
TZID:Europe/Warsaw
X-LIC-LOCATION:Europe/Warsaw
BEGIN:STANDARD
DTSTART:20181028T020000
TZOFFSETFROM:+0200
TZOFFSETTO:+0100
TZNAME:CET
END:STANDARD
END:VTIMEZONE
END:VCALENDAR