BEGIN:VCALENDAR
VERSION:2.0
PRODID:-//wp-events-plugin.com//7.2.3.1//EN
TZID:Europe/Warsaw
X-WR-TIMEZONE:Europe/Warsaw
BEGIN:VEVENT
UID:18189@night4u.pl
DTSTART;TZID=Europe/Warsaw:20190605T200000
DTEND;TZID=Europe/Warsaw:20190605T230000
DTSTAMP:20190603T203739Z
URL:https://night4u.pl/wydarzenia/acorda-w-amore-del-tropico/
SUMMARY:ACorda w Amore del Tropico
DESCRIPTION:A`Corda gitarowy duet grający własne aranżacje od rocka po k
 lasykę. Gramy od serca i dla ucha\, nastawieni na tworzenie piękna i rad
 ości.
ATTACH;FMTTYPE=image/jpeg:https://night4u.pl/wp-content/uploads/2019/06/43
 993_image_62032870_2201586399957611_2282815911423377408_o.jpg
CATEGORIES:wielkopolskie
END:VEVENT
BEGIN:VTIMEZONE
TZID:Europe/Warsaw
X-LIC-LOCATION:Europe/Warsaw
BEGIN:DAYLIGHT
DTSTART:20190331T030000
TZOFFSETFROM:+0100
TZOFFSETTO:+0200
TZNAME:CEST
END:DAYLIGHT
END:VTIMEZONE
END:VCALENDAR