BEGIN:VCALENDAR
VERSION:2.0
PRODID:-//wp-events-plugin.com//7.2.3.1//EN
TZID:Europe/Warsaw
X-WR-TIMEZONE:Europe/Warsaw
BEGIN:VEVENT
UID:30323@night4u.pl
DTSTART;TZID=Europe/Warsaw:20191029T200000
DTEND;TZID=Europe/Warsaw:20191029T220000
DTSTAMP:20200401T081055Z
URL:https://night4u.pl/wydarzenia/adam-van-bendler-stand-up-prezentuje-kar
 ol-modzelewski-gdansk/
SUMMARY:Adam Van Bendler Stand-up Prezentuje Karol Modzelewski - Gdańsk
DESCRIPTION:Już 29 pazdziernika w klubie Kwadratowa w Gdańsku gościem Ad
 ama Van Bendlera ze swoim godzinnym programem "Afryka" będzie Karol Modze
 lewski !\n\nKarol Modzelewski\nKomik\, stand-uper\, prezenter RMF FM\, pod
 różnik\, kochanek\, człowiek renesansu. Przeszedł kiedyś Contrę na P
 egazusie na 4 życiach. Współtworzył duet Bękarty Stand-Upu. Występow
 ał w MTV\, TVN\, Polsat\, TVP\, Comedy Central. Uwielbia kontakt z publik
 ą\, humor abstrakcyjny i ser.\n\nProwadzenie : Adam Van Bendler !\nOdbęd
 zie się również Open-mic !\n\n+ Adam Van Bendler Testy materiału na Ro
 ast Łodzi !\n\nStart: 20:00\nBramy: 19:00\n\nhttps://www.kupbilecik.pl/im
 prezy/43271/Gda%C5%84sk/Adam+Van+Bendler+Stand-up+Prezentuje/\n\nCena: 30 
 zł przedsprzedaż / 40 zł w dniu wydarzenia\nDo zobaczenia !
ATTACH;FMTTYPE=image/jpeg:https://night4u.pl/wp-content/uploads/2019/10/69
 921_image_72814077_1275079636007032_7576850492337160192_o.jpg
CATEGORIES:pomorskie
LOCATION:AK PG Kwadratowa\, Siedlicka 4\, Gdansk\, 80-222\, Poland
GEO:54.3708;18.61536
X-APPLE-STRUCTURED-LOCATION;VALUE=URI;X-ADDRESS=Siedlicka 4\, Gdansk\, 80-2
 22\, Poland;X-APPLE-RADIUS=100;X-TITLE=AK PG Kwadratowa:geo:54.3708,18.615
 36
END:VEVENT
BEGIN:VTIMEZONE
TZID:Europe/Warsaw
X-LIC-LOCATION:Europe/Warsaw
BEGIN:STANDARD
DTSTART:20191027T020000
TZOFFSETFROM:+0200
TZOFFSETTO:+0100
TZNAME:CET
END:STANDARD
END:VTIMEZONE
END:VCALENDAR